Workbook

Sheet 1-1.入居状況等の記録 (NG表示)
B1: NGのケース
B2: 住戸 | C2: 住宅 種別 | D2: 住宅の提供期間 | F2: 入居者名 | G2: 入居期間 | I2: 要援助者 | J2: 専用住宅チェック | K2: 援助期間 | M2: 提供する援助内容 | P2: 援助提供方法 | R2: 属性(要配慮者は重複可)
D3: 開始日 | E3: 終了日 | G3: 入居日 | H3: 退去日 | K3: 開始日 | L3: 終了日 | M3: 安否確認 | N3: 見守り | O3: つなぎ | P3: 安否確認 | Q3: 見守り | R3: 低額所得者 | S3: 被災者 | T3: 高齢者 | U3: 障害者 | V3: 子育て | W3: その他 要配慮者 | X3: 要配慮者 以外
B4: 101 | C4: 専用 | D4: 45748 | F4: ○○ | G4: 45748 | H4: 45809 | I4: =IF($C4<>"",IF(OR($C4="サポ住",$C4="専用"),IF(AND($M4="○",$N4="○",$O4="○"),"○","-"),"-"),"") -> ○ | J4: =IF(AND($C4="専用",$I4<>"○"),"NG","") | K4: 45748 | L4: 45808 | M4: ○ | N4: ○ | O4: ○ | P4: 機器 | Q4: 訪問 | T4: ○
B5: 101 | C5: 専用 | D5: 45748 | F5: □□ | G5: 45931 | I5: =IF($C5<>"",IF(OR($C5="サポ住",$C5="専用"),IF(AND($M5="○",$N5="○",$O5="○"),"○","-"),"-"),"") -> - | J5: =IF(AND($C5="専用",$I5<>"○"),"NG","") -> NG | K5: =G5 -> 45931 | M5: ○ | N5: - | O5: ○ | P5: 機器 | Q5: 訪問 | T5: ○
B6: 103 | C6: 専用 | D6: 45748 | F6: △□○ | G6: 45839 | I6: =IF($C6<>"",IF(OR($C6="サポ住",$C6="専用"),IF(AND($M6="○",$N6="○",$O6="○"),"○","-"),"-"),"") -> ○ | J6: =IF(AND($C6="専用",$I6<>"○"),"NG","") | K6: 45839 | M6: ○ | N6: ○ | O6: ○ | P6: 機器 | Q6: 訪問 | U6: ○
B7: 104 | C7: サポ住 | D7: 45748 | F7: ●◇ | G7: 45748 | H7: 46054 | I7: =IF($C7<>"",IF(OR($C7="サポ住",$C7="専用"),IF(AND($M7="○",$N7="○",$O7="○"),"○","-"),"-"),"") -> ○ | J7: =IF(AND($C7="専用",$I7<>"○"),"NG","") | K7: 45809 | L7: 46053 | M7: ○ | N7: ○ | O7: ○ | P7: 電話 | Q7: 訪問 | T7: ○
B8: 105 | C8: サポ住 | D8: 45748 | F8: □○ | G8: 45992 | I8: =IF($C8<>"",IF(OR($C8="サポ住",$C8="専用"),IF(AND($M8="○",$N8="○",$O8="○"),"○","-"),"-"),"") -> ○ | J8: =IF(AND($C8="専用",$I8<>"○"),"NG","") | K8: 46023 | M8: ○ | N8: ○ | O8: ○ | P8: 電話 | Q8: 訪問 | R8: ○ | U8: ○
B9: 201 | C9: サポ住 | D9: 45748 | F9: ◇○ | G9: 46054 | I9: =IF($C9<>"",IF(OR($C9="サポ住",$C9="専用"),IF(AND($M9="○",$N9="○",$O9="○"),"○","-"),"-"),"") -> - | J9: =IF(AND($C9="専用",$I9<>"○"),"NG","") | M9: ○ | N9: - | O9: - | P9: 機器 | T9: ○
B10: 202 | C10: サポ住 | D10: 45748 | F10: □◇ | G10: 45748 | I10: =IF($C10<>"",IF(OR($C10="サポ住",$C10="専用"),IF(AND($M10="○",$N10="○",$O10="○"),"○","-"),"-"),"") -> - | J10: =IF(AND($C10="専用",$I10<>"○"),"NG","") | M10: - | N10: - | O10: - | P10: - | X10: ○
B11: 203 | C11: サポ住 | D11: 45992 | F11: ○△ | G11: 45992 | I11: =IF($C11<>"",IF(OR($C11="サポ住",$C11="専用"),IF(AND($M11="○",$N11="○",$O11="○"),"○","-"),"-"),"") -> ○ | J11: =IF(AND($C11="専用",$I11<>"○"),"NG","") | K11: 46023 | M11: ○ | N11: ○ | O11: ○ | P11: 機器 | Q11: 訪問 | T11: ○
B12: 204 | C12: サポ住 | D12: 45748 | E12: 45991 | F12: 空き | I12: =IF($C12<>"",IF(OR($C12="サポ住",$C12="専用"),IF(AND($M12="○",$N12="○",$O12="○"),"○","-"),"-"),"") -> - | J12: =IF(AND($C12="専用",$I12<>"○"),"NG","")
I13: =IF($C13<>"",IF(OR($C13="サポ住",$C13="専用"),IF(AND($M13="○",$N13="○",$O13="○"),"○","-"),"-"),"") | J13: =IF(AND($C13="専用",$I13<>"○"),"NG","")
I14: =IF($C14<>"",IF(OR($C14="サポ住",$C14="専用"),IF(AND($M14="○",$N14="○",$O14="○"),"○","-"),"-"),"") | J14: =IF(AND($C14="専用",$I14<>"○"),"NG","")
I15: =IF($C15<>"",IF(OR($C15="サポ住",$C15="専用"),IF(AND($M15="○",$N15="○",$O15="○"),"○","-"),"-"),"") | J15: =IF(AND($C15="専用",$I15<>"○"),"NG","")
B16: 住戸記入チェック | C16: =IF(COUNTIFS(B4:B15,"<>",E4:E15,"",H4:H15,"")='1-2.入居状況等 (集計表)'!$H$4,"OK","NG") -> NG | F16: サポ住入居戸数 | G16: =COUNTIFS($C$4:$C$15,"<>"&"一般",G4:G15,"<>"&"") -> 8 | I16: =COUNTIFS($C$4:$C$15,"<>"&"一般",I4:I15,"○") -> 5 | R16: =COUNTIFS($C$4:$C$15,"<>"&"一般",R4:R15,"○") -> 1 | S16: =COUNTIFS($C$4:$C$15,"<>"&"一般",S4:S15,"○") -> 0 | T16: =COUNTIFS($C$4:$C$15,"<>"&"一般",T4:T15,"○") -> 5 | U16: =COUNTIFS($C$4:$C$15,"<>"&"一般",U4:U15,"○") -> 2 | V16: =COUNTIFS($C$4:$C$15,"<>"&"一般",V4:V15,"○") -> 0 | W16: =COUNTIFS($C$4:$C$15,"<>"&"一般",W4:W15,"○") -> 0 | X16: =COUNTIFS($C$4:$C$15,"<>"&"一般",X4:X15,"○") -> 1

Sheet 定期報告様式
A1: Ⅲ 居住安定援助賃貸住宅事業の実施状況 | G1: 緑字：入力 | I1: 黒字：自動表示
A2: 1 | B2: 認定住宅の入居状況
B4: （１）現在の状況（2025年度末）
B5: 認定住宅戸数① | D5: 認定住宅 入居戸数 （※1）③ | G5: 空き戸数 ⑥＝①-③ | I5: 専用賃貸住宅の供給状況 ②≦⑤+⑥ | J5: 専用賃貸住宅の供給状況 不可の場合の 理由等
C6: うち専用賃貸 住宅戸数② | E6: うち住宅確保 要配慮者の 入居戸数 ④
F7: うち要援助者（※2） の入居戸数 ⑤
B8: ='1-2.入居状況等 (集計表)'!C18 -> 7 | C8: ='1-2.入居状況等 (集計表)'!D18 -> 2 | D8: ='1-2.入居状況等 (集計表)'!E18 -> 6 | E8: ='1-2.入居状況等 (集計表)'!F18 -> 5 | F8: ='1-2.入居状況等 (集計表)'!G18 -> 3 | G8: =B8-D8 -> 1 | I8: =IF(C8<=(F8+G8),"可","不可") -> 可
B9: （※１）住宅確保要配慮者以外の者が入居する認定住宅の戸数を含む。
B10: （※２）「要援助者」とは、国土交通省・厚生労働省関係住宅確保要配慮者に対する賃貸住宅の供給の促進に関する法律施行規則第14条第1号 柱書に規定する者のことをいう。
B12: （２）年度実績（2025年度）
B13: 認定住宅入居戸数（累計） | E13: うち住宅確保要配慮者の 入居戸数（累計） | H13: うち要援助者の 入居戸数（累計）
B14: ='1-2.入居状況等 (集計表)'!C22 -> 8 | E14: ='1-2.入居状況等 (集計表)'!F22 -> 7 | H14: ='1-2.入居状況等 (集計表)'!H22 -> 5
B15: （注）一の年度中に、一の住戸に２（以上）の世帯が入居した場合は、「入居戸数（累計）」は「２（以上）」と記載する。 （例：４～９月にＡ世帯、10～３月にＢ世帯が入居した場合は、「２」と記載する。）
D17: 低額所得者 | E17: 被災者 （災害から ３年以内） | F17: 高齢者 | G17: 障害者 | I17: 子どもを養育 している者 | J17: その他住宅確保要配慮者
B18: 住宅確保要配慮者の 入居戸数（累計）の 属性別内訳 | D18: ='1-1.入居状況等の記録'!Y21 -> 1 | E18: ='1-1.入居状況等の記録'!Z21 -> 0 | F18: ='1-1.入居状況等の記録'!AA21 -> 5 | G18: ='1-1.入居状況等の記録'!AB21 -> 2 | I18: ='1-1.入居状況等の記録'!AC21 -> 0 | J18: ='1-1.入居状況等の記録'!AD21 -> 0
B19: うち要援助者の 入居戸数（累計）の 属性別内訳 | D19: ='1-1.入居状況等の記録'!Y22 -> 1 | E19: ='1-1.入居状況等の記録'!Z22 -> 0 | F19: ='1-1.入居状況等の記録'!AA22 -> 4 | G19: ='1-1.入居状況等の記録'!AB22 -> 1 | I19: ='1-1.入居状況等の記録'!AC22 -> 0 | J19: ='1-1.入居状況等の記録'!AD22 -> 0
B20: （注）一の住戸に入居する住宅確保要配慮者が複数の属性に該当する場合は、当該住宅確保要配慮者が該当する属性全てに計上する。 （例：高齢者かつ障害者である者が入居した場合は、高齢者に１、障害者に１を計上する。） 一の住戸に入居する世帯に、属性の異なる複数の住宅確保要配慮者が含まれる場合は、当該世帯の住宅確保要配慮者が該当する 属性全てに計上する。（例：一の住戸に、高齢者である親と障害者である子が入居した場合は、高齢者に１、障害者に１を計上する。）
A22: 2 | B22: 要援助者に対する居住安定援助（安否確認・見守り・福祉サービスへのつなぎ）の年度実績（ 年度）
B23: （１）要援助者に対する居住安定援助（安否確認・見守り・福祉サービスへのつなぎ）の提供体制
B24: 外部委託の有無 | D24: ☑ | E24: あり | F24: □ | G24: なし
B25: 委託の内容 | D25: 一部の要援助者（１名）に対する訪問サービス事業者による見守り
B26: 外部委託契約書の有無 | D26: ☑ | E26: あり | F26: □ | G26: なし
B27: 外部委託の特記事項
B29: （２）要援助者に提供した安否確認（１日に１回以上）の実施状況
B30: 実施方法 （該当するもの すべて） | D30: ☑ | E30: 通信機器 | F30: □ | G30: 訪問 | I30: ☑ | J30: 電話
D31: □ | E31: ＳＮＳ | F31: □ | G31: その他
B32: 延べ異常発生回数 | D32: ='2-2.要援助者に対する居住安定援助の提供状況（集計表）'!E22 -> 3 | E32: 回
B33: 異常発生後の対応結果 | D33: 入居者の状況 | F33: 異常あり | G33: ="("&'2-2.要援助者に対する居住安定援助の提供状況（集計表）'!G22&"件)" -> (1件) | I33: ⇒うち死亡件数 | J33: ="("&'2-2.要援助者に対する居住安定援助の提供状況（集計表）'!H22&"件)" -> (0件)
F34: 無事 | G34: ="("&'2-2.要援助者に対する居住安定援助の提供状況（集計表）'!F22&"件)" -> (2件)
D35: 入居者の状況 異常ありの場合の 対応状況 | F35: 対応あり | G35: ="("&'2-2.要援助者に対する居住安定援助の提供状況（集計表）'!I22&"件)" -> (1件)
F36: 対応なし | G36: ="("&'2-2.要援助者に対する居住安定援助の提供状況（集計表）'!J22&"件)" -> (0件) | I36: ⇒理由
B39: （３）要援助者に提供した見守り（１ヶ月に１回以上）の実施状況
B40: 実施方法 | C40: 訪問
B41: 延べ実施回数 | C41: ='2-2.要援助者に対する居住安定援助の提供状況（集計表）'!L22 -> 19 | D41: 回
B42: 実施状況 | C42: ☑ | D42: １ヶ月に１回以上見守りを実施した
C43: 実施していない場合の理由
B45: （４）要援助者に提供した福祉サービスへのつなぎの実施状況
B46: つなぎを行った合計人数
C47: ='2-2.要援助者に対する居住安定援助の提供状況（集計表）'!N22+'2-2.要援助者に対する居住安定援助の提供状況（集計表）'!P22+'2-2.要援助者に対する居住安定援助の提供状況（集計表）'!R22 -> 7
B49: 新規につなぎを行った合計回数
...

Sheet 帳簿の使用方法 
B2: 帳簿（参考様式）の使用方法について 【参考様式について】 この参考様式は、居住サポート住宅について認定事業者に作成・備え付けが義務付けられている「帳簿」のひな形として作成したものであり、これ以外の形式で帳簿を作成することも可能です。 【記入例について】 以下のケースについて、記入例（緑字）を記載しています。 ・居住サポート住宅認定戸数：７戸（うち、専用住宅：２戸、非専用住宅：５戸で認定。101、103、10４、20１、20２、203、204） ・運用開始時は10１と103を専用住宅として運用。その後、１０１に要援助者以外の者が入居したため、専用住宅の位置を変更し、１０１は非専用住宅として、10３と10４を専用住宅として運用。
B4: 手順① ファイル内に、必要なシートを準備する ○以下図のとおり、参考様式のEXCELファイルは、「1-1」～「2-2」の４種類のシートで構成されています。 ○このうち、認定事業者において事業の実施状況について入力が必要となるもの（入力シート）は、シート「1-1」「2-1」の２種類です。シート「1-2」「2-2」は、入力された内容をもとに、定期報告において必要な情報が自動集計されるシート（集計シート）です。(ただし、2-2のつなぎ先は入力が必要です) ○また、シート「2-1」のみ、居住サポート住宅として認定を受けた住戸について、入居者ごとにシートが必要になります。ひな型では7戸分用意していますが、必要分をコピーして使用してください。 ○サポート住宅が複数棟ある場合は、住戸番号を棟名＋住戸番号にする等、適宜入力してください。(例：1-101、2-101)
B6: ■ファイルのシート構成
B28: 手順② 帳簿を作成する
B29: （１）シート「1-1.入居状況等の記録」の作成
B30: ○見出しが水色の列に、必要事項を入力してください。見出しがオレンジ色の列は自動入力されます。 ○空き住戸も含めて、認定を受けた全住戸について入力してください。 ○サポート住宅が複数棟ある場合は、住戸番号を棟名＋住戸番号にする等、適宜入力してください。(例：1-101、2-101) ○入居者が退居し入れ替わった場合や、専用住宅・非専用住宅の種別を変更する場合は、入居者や種別が変更となった後の内容について、新しく行を作成して記載してください。変更前の内容を記載した行は、「住宅の提供期間」の「終了日」を入力すると、表示がグレーアウトされます。定期報告における当該年度の入居状況の累計をカウントするため、変更前の行を上書きして記載したり、行を削除することは行わないでください。 ○上記のとおり、「住宅の提供期間」の「終了日」を入力すると、表示がグレーアウトされるため、最新の入居状況のみ表示させたい場合は、フィルタ機能を用いて「着色無し」を選択してください。
B58: 手順② 帳簿を作成する
B59: （２）シート「2-1.居住安定援助の記録」の作成
B60: ○手順①にも記載のとおり、入居者ごとにシートを作成し、見出しが水色の箇所に、必要事項を入力してください。要援助者に限らず、居住サポートを提供した住宅確保要配慮者については全員分の作成が必要です。 ○シート名を「住戸番号＋氏名(シート「1-1」と同じ表記)」にすると、見出しがオレンジ色の箇所は自動入力されます。
B104: 手順③ 集計する
B105: （１）シート「1-2.入居状況等（集計表）」の作成
B106: ○（１）認定内容に、認定を受けた計画における居住サポート住宅の戸数及びそのうち専用住宅の戸数を入力してください。 ○（２）に集計を行う時点の日付を入力してください。 年月日を年度末にすると、定期報告に記載する項目を集計することが可能です。 年月日を現在にすると、認定内容と提供状況が合致するか（適切に運用されているか）を「運用チェック」欄から確認できます。
... B197: ○手順①～③により、シート「定期報告様式」に集計結果が反映されます。 ○黄色セルの数字を定期報告時に活用することが可能です。

Sheet 1-1.入居状況等の記録
A1: 1 | B1: 2 | C1: 3 | D1: 4 | E1: 5 | F1: 6 | G1: 7 | H1: 8 | I1: 9 | J1: 10 | K1: 11 | L1: 12 | M1: 13 | N1: 14 | O1: 15 | P1: 16 | Q1: 17 | R1: 18 | S1: 19 | T1: 20 | U1: 21 | V1: 22 | W1: 23 | X1: 24 | Y1: 25 | Z1: 26 | AA1: 27 | AB1: 28 | AC1: 29 | AD1: 30 | AE1: 31 | AF1: 32 | AG1: ←参照用(削除不可)
A2: 参照用 (削除不可) | B2: 住戸番号 | C2: 住宅 種別 | D2: 住宅の提供期間 | F2: 入居者 | G2: 入居期間 | I2: 要援助者 | J2: 専用住宅チェック | K2: サポート期間 | M2: 提供する居住サポートの内容 | Q2: 居住サポートの利用料(円/月or円/回) | V2: 提供方法 | X2: 提供の条件 | Y2: 属性(要配慮者は重複可) | AF2: 要配慮者 | AG2: 参照用 (削除不可)
D3: 開始日 | E3: 終了日 | F3: 氏名 | G3: 入居日 | H3: 退居日 | K3: 開始日 | L3: 終了日 | M3: 安否確認 | N3: 見守り | O3: つなぎ | P3: その他の 内容 | Q3: 合計額※ | R3: 安否確認 | S3: 見守り | T3: つなぎ | U3: その他 | V3: 安否確認 | W3: 見守り | Y3: 低額所得者 | Z3: 被災者 | AA3: 高齢者 | AB3: 障害者 | AC3: 子育て | AD3: その他 要配慮者 | AE3: 要配慮者 以外
A4: 住戸番号・氏名 | Q4: ※設定している場合
A5: =B5&F5 -> 101○○ | B5: 101 | C5: 専用 | D5: 45931 | E5: 46053 | F5: ○○ | G5: 45931 | H5: 46053 | I5: =IF($C5="","",IF(AND($M5="○",$N5="○",$O5="○",$AF5="○"),"○","-")) -> ○ | J5: =IF(AND($C5="専用",$I5<>"○",$F5<>"空き"),"NG","OK") -> OK | K5: 45931 | L5: 46053 | M5: ○ | N5: ○ | O5: ○ | P5: 通院付添 | Q5: 5000 | U5: 1000 | V5: 機器 | W5: 訪問 | AA5: ○ | AF5: =IF(B5="","",IF(COUNTIF(Y5:AD5, "○") > 0, "○","-")) -> ○ | AG5: =A5 -> 101○○
A6: =B6&F6 -> 101□□ | B6: 101 | C6: 非専用 | D6: 46054 | F6: □□ | G6: 46054 | I6: =IF($C6="","",IF(AND($M6="○",$N6="○",$O6="○",$AF6="○"),"○","-")) -> - | J6: =IF(AND($C6="専用",$I6<>"○",$F6<>"空き"),"NG","OK") -> OK | K6: 46054 | M6: ○ | N6: ○ | O6: - | P6: なし | R6: 2000 | S6: 2000 | V6: 機器 | W6: 訪問 | AA6: ○ | AF6: =IF(B6="","",IF(COUNTIF(Y6:AD6, "○") > 0, "○","-")) -> ○ | AG6: =A6 -> 101□□
A7: =B7&F7 -> 103△□○ | B7: 103 | C7: 専用 | D7: 45931 | F7: △□○ | G7: 45931 | I7: =IF($C7="","",IF(AND($M7="○",$N7="○",$O7="○",$AF7="○"),"○","-")) -> ○ | J7: =IF(AND($C7="専用",$I7<>"○",$F7<>"空き"),"NG","OK") -> OK | K7: 45931 | M7: ○ | N7: ○ | O7: ○ | P7: 通院付添 | Q7: 5000 | U7: 1000 | V7: 機器 | W7: 訪問 | AA7: ○ | AF7: =IF(B7="","",IF(COUNTIF(Y7:AD7, "○") > 0, "○","-")) -> ○ | AG7: =A7 -> 103△□○
A8: =B8&F8 -> 104●◇ | B8: 104 | C8: 非専用 | D8: 45931 | E8: 46053 | F8: ●◇ | G8: 45931 | H8: 46053 | I8: =IF($C8="","",IF(AND($M8="○",$N8="○",$O8="○",$AF8="○"),"○","-")) -> ○ | J8: =IF(AND($C8="専用",$I8<>"○",$F8<>"空き"),"NG","OK") -> OK | K8: 45931 | L8: 46053 | M8: ○ | N8: ○ | O8: ○ | P8: なし | Q8: 4000 | V8: 電話 | W8: 訪問 | AA8: ○ | AF8: =IF(B8="","",IF(COUNTIF(Y8:AD8, "○") > 0, "○","-")) -> ○ | AG8: =A8 -> 104●◇
A9: =B9&F9 -> 104空き | B9: 104 | C9: 専用 | D9: 46054 | F9: 空き | I9: =IF($C9="","",IF(AND($M9="○",$N9="○",$O9="○",$AF9="○"),"○","-")) -> - | J9: =IF(AND($C9="専用",$I9<>"○",$F9<>"空き"),"NG","OK") -> OK | P9: なし | AF9: =IF(B9="","",IF(COUNTIF(Y9:AD9, "○") > 0, "○","-")) -> - | AG9: =A9 -> 104空き
A10: =B10&F10 -> 201◇○ | B10: 201 | C10: 非専用 | D10: 45931 | F10: ◇○ | G10: 46054 | I10: =IF($C10="","",IF(AND($M10="○",$N10="○",$O10="○",$AF10="○"),"○","-")) -> - | J10: =IF(AND($C10="専用",$I10<>"○",$F10<>"空き"),"NG","OK") -> OK | K10: 46054 | M10: - | N10: ○ | O10: - | P10: 買い物支援 | S10: 2000 | U10: 500 | V10: - | W10: 訪問 | AB10: ○ | AF10: =IF(B10="","",IF(COUNTIF(Y10:AD10, "○") > 0, "○","-")) -> ○ | AG10: =A10 -> 201◇○
A11: =B11&F11 -> 202□◇ | B11: 202 | C11: 非専用 | D11: 45931 | F11: □◇ | G11: 45931 | I11: =IF($C11="","",IF(AND($M11="○",$N11="○",$O11="○",$AF11="○"),"○","-")) -> - | J11: =IF(AND($C11="専用",$I11<>"○",$F11<>"空き"),"NG","OK") -> OK | M11: - | N11: - | O11: - | P11: なし | V11: - | W11: - | AE11: ○ | AF11: =IF(B11="","",IF(COUNTIF(Y11:AD11, "○") > 0, "○","-")) -> - | AG11: =A11 -> 202□◇
A12: =B12&F12 -> 203○△ | B12: 203 | C12: 非専用 | D12: 45931 | F12: ○△ | G12: 45992 | I12: =IF($C12="","",IF(AND($M12="○",$N12="○",$O12="○",$AF12="○"),"○","-")) -> ○ | J12: =IF(AND($C12="専用",$I12<>"○",$F12<>"空き"),"NG","OK") -> OK | K12: 46023 | M12: ○ | N12: ○ | O12: ○ | P12: なし | Q12: 5000 | V12: 機器 | W12: 訪問 | AA12: ○ | AF12: =IF(B12="","",IF(COUNTIF(Y12:AD12, "○") > 0, "○","-")) -> ○ | AG12: =A12 -> 203○△
A13: =B13&F13 -> 204空き | B13: 204 | C13: 非専用 | D13: 45931 | E13: 45991 | F13: 空き | I13: =IF($C13="","",IF(AND($M13="○",$N13="○",$O13="○",$AF13="○"),"○","-")) -> - | J13: =IF(AND($C13="専用",$I13<>"○",$F13<>"空き"),"NG","OK") -> OK | P13: なし | AF13: =IF(B13="","",IF(COUNTIF(Y13:AD13, "○") > 0, "○","-")) -> - | AG13: =A13 -> 204空き
A14: =B14&F14 -> 204□○ | B14: 204 | C14: 非専用 | D14: 45992 | F14: □○ | G14: 45992 | I14: =IF($C14="","",IF(AND($M14="○",$N14="○",$O14="○",$AF14="○"),"○","-")) -> ○ | J14: =IF(AND($C14="専用",$I14<>"○",$F14<>"空き"),"NG","OK") -> OK | K14: 46023 | M14: ○ | N14: ○ | O14: ○ | P14: なし | Q14: 4000 | V14: 電話 | W14: 訪問 | Y14: ○ | AB14: ○ | AF14: =IF(B14="","",IF(COUNTIF(Y14:AD14, "○") > 0, "○","-")) -> ○ | AG14: =A14 -> 204□○
I15: =IF($C15="","",IF(AND($M15="○",$N15="○",$O15="○",$AF15="○"),"○","-")) | AF15: =IF(B15="","",IF(COUNTIF(Y15:AD15, "○") > 0, "○","-"))
I16: =IF($C16="","",IF(AND($M16="○",$N16="○",$O16="○",$AF16="○"),"○","-")) | AF16: =IF(B16="","",IF(COUNTIF(Y16:AD16, "○") > 0, "○","-"))
I17: =IF($C17="","",IF(AND($M17="○",$N17="○",$O17="○",$AF17="○"),"○","-")) | AF17: =IF(B17="","",IF(COUNTIF(Y17:AD17, "○") > 0, "○","-"))
I18: =IF($C18="","",IF(AND($M18="○",$N18="○",$O18="○",$AF18="○"),"○","-")) | AF18: =IF(B18="","",IF(COUNTIF(Y18:AD18, "○") > 0, "○","-"))
I19: =IF($C19="","",IF(AND($M19="○",$N19="○",$O19="○",$AF19="○"),"○","-")) | AF19: =IF(B19="","",IF(COUNTIF(Y19:AD19, "○") > 0, "○","-"))
I20: =IF($C20="","",IF(AND($M20="○",$N20="○",$O20="○",$AF20="○"),"○","-")) | AF20: =IF(B20="","",IF(COUNTIF(Y20:AD20, "○") > 0, "○","-"))
B21: 住戸記入チェック | C21: =IF(COUNTIFS(B5:B20,"<>",E5:E20,"",H5:H20,"")='1-2.入居状況等 (集計表)'!$D$4,"OK","NG") -> OK | E21: 年度計 | F21: サポ住入居戸数 | G21: =COUNTIFS($C$5:$C$20,"<>"&"-",G5:G20,"<>"&"") -> 8 | I21: =COUNTIFS($C$5:$C$20,"<>"&"-",I5:I20,"○") -> 5 | P21: =COUNTA(P5:P20)-COUNTIF(P5:P20,"なし") -> 3 | Y21: =COUNTIFS($C$5:$C$20,"<>"&"-",Y5:Y20,"○") -> 1 | Z21: =COUNTIFS($C$5:$C$20,"<>"&"-",Z5:Z20,"○") -> 0 | AA21: =COUNTIFS($C$5:$C$20,"<>"&"-",AA5:AA20,"○") -> 5 | AB21: =COUNTIFS($C$5:$C$20,"<>"&"-",AB5:AB20,"○") -> 2 | AC21: =COUNTIFS($C$5:$C$20,"<>"&"-",AC5:AC20,"○") -> 0 | AD21: =COUNTIFS($C$5:$C$20,"<>"&"-",AD5:AD20,"○") -> 0 | AE21: =COUNTIFS($C$5:$C$20,"<>"&"-",AE5:AE20,"○") -> 1
F22: 要配慮者 | G22: =G21-AE21 -> 7 | L22: 要援助者以外 | M22: =COUNTIFS($I$5:$I$20,"-",$M$5:$M$20,"○") -> 1 | N22: =COUNTIFS($I$5:$I$20,"-",$N$5:$N$20,"○") -> 2 | O22: =COUNTIFS($I$5:$I$20,"-",$O$5:$O$20,"○") -> 0 | X22: うち要援助者 | Y22: =COUNTIFS(Y5:Y20,"○",$I5:$I20,"○") -> 1 | Z22: =COUNTIFS(Z5:Z20,"○",$I5:$I20,"○") -> 0 | AA22: =COUNTIFS(AA5:AA20,"○",$I5:$I20,"○") -> 4 | AB22: =COUNTIFS(AB5:AB20,"○",$I5:$I20,"○") -> 1 | AC22: =COUNTIFS(AC5:AC20,"○",$I5:$I20,"○") -> 0 | AD22: =COUNTIFS(AD5:AD20,"○",$I5:$I20,"○") -> 0

Sheet 1-2.入居状況等 (集計表)
C1: 1-2.入居状況等(集計表)
C2: ■全体の種別戸数 | G2: 緑字：入力 | I2: 黒字：自動表示
C3: (1)認定内容 | I3: ：定期報告項目
C4: a.認定住宅(サポ住) | D4: 7 | E4: b.うち 専用住宅 | F4: 2 | K4: 専用住宅：定期報告様式の専用賃貸住宅
K5: 認定住宅(サポ住)：居住サポート住宅
B6: (2) | C6: 46112 | D6: 現在の住宅戸数と入居戸数
B7: 提供住宅 | C7: ①認定住宅戸数 | D7: =COUNTIFS('1-1.入居状況等の記録'!$C$5:$C$20,"=非専用",'1-1.入居状況等の記録'!$E$5:$E$20,"="&"",'1-1.入居状況等の記録'!$H$5:$H$20,"="&"",'1-1.入居状況等の記録'!$D$5:$D$20,"<="&$C$6)+COUNTIFS('1-1.入居状況等の記録'!$C$5:$C$20,"=非専用",'1-1.入居状況等の記録'!$E$5:$E$20,">="&$C$6,'1-1.入居状況等の記録'!$H$5:$H$20,">="&$C$6,'1-1.入居状況等の記録'!$D$5:$D$20,"<="&$C$6)+F7 -> 7 | E7: ②うち 専用住宅 | F7: =COUNTIFS('1-1.入居状況等の記録'!$C$5:$C$20,"=専用",'1-1.入居状況等の記録'!$E$5:$E$20,"="&"",'1-1.入居状況等の記録'!$H$5:$H$20,"="&"",'1-1.入居状況等の記録'!$D$5:$D$20,"<="&$C$6)+COUNTIFS('1-1.入居状況等の記録'!$C$5:$C$20,"=専用",'1-1.入居状況等の記録'!$E$5:$E$20,">="&$C$6,'1-1.入居状況等の記録'!$H$5:$H$20,">="&$C$6,'1-1.入居状況等の記録'!$D$5:$D$20,"<="&$C$6) -> 2
B9: 入居戸数 | C9: ③サポ住 入居 | D9: =COUNTIFS('1-1.入居状況等の記録'!$C$5:$C$20,"<>",'1-1.入居状況等の記録'!$G$5:$G$20,"<="&$C$6,'1-1.入居状況等の記録'!$H$5:$H$20,"="&"")+COUNTIFS('1-1.入居状況等の記録'!$C$5:$C$20,"<>",'1-1.入居状況等の記録'!$G$5:$G$20,"<="&$C$6,'1-1.入居状況等の記録'!$H$5:$H$20,"<>"&"",'1-1.入居状況等の記録'!$H$5:$H$20,">="&$C$6) -> 6 | E9: ④うち 要配慮者 | F9: =COUNTIFS('1-1.入居状況等の記録'!$C$5:$C$20,"<>",'1-1.入居状況等の記録'!$AF$5:$AF$20,"=○",'1-1.入居状況等の記録'!$G$5:$G$20,"<="&$C$6,'1-1.入居状況等の記録'!$H$5:$H$20,"="&"")+COUNTIFS('1-1.入居状況等の記録'!$C$5:$C$20,"<>",'1-1.入居状況等の記録'!$AF$5:$AF$20,"=○",'1-1.入居状況等の記録'!$G$5:$G$20,"<="&$C$6,'1-1.入居状況等の記録'!$H$5:$H$20,"<>"&"",'1-1.入居状況等の記録'!$H$5:$H$20,">="&$C$6) -> 5 | G9: ⑤うち 要援助者 | H9: =COUNTIFS('1-1.入居状況等の記録'!$C$5:$C$20,"<>",'1-1.入居状況等の記録'!$I$5:$I$20,"=○",'1-1.入居状況等の記録'!$G$5:$G$20,"<="&$C$6,'1-1.入居状況等の記録'!$H$5:$H$20,"="&"")+COUNTIFS('1-1.入居状況等の記録'!$C$5:$C$20,"<>",'1-1.入居状況等の記録'!$I$5:$I$20,"=○",'1-1.入居状況等の記録'!$G$5:$G$20,"<="&$C$6,'1-1.入居状況等の記録'!$H$5:$H$20,"<>"&"",'1-1.入居状況等の記録'!$H$5:$H$20,">="&$C$6) -> 3 | I9: ⑥空き戸数①-③ | J9: =D4-D9 -> 1
C11: 運用チェック(認定内容と提供状況の確認)
C12: サポ住提供チェック (①=a かどうか) | E12: =IF(D7=D4,"OK","NG") -> OK | F12: 専用提供チェック (②＝b かどうか) | H12: =IF(F7<=(H9+J9),"OK","NG") -> OK | I12: 専用住宅 チェック②≦⑤+⑥ | K12: =IF(F4<=(H9+J9),"OK","NG") -> OK
C14: (3)定期報告内容(入居状況)
C15: ●現在の入居状況
C16: 認定住宅 戸数① | E16: 認定住宅 入居戸数③ | J16: 専用住宅 チェック②≦④+⑤
D17: うち専用住宅戸数② | F17: うち住宅確保要配慮者の入居戸数④ | G17: うち要援助者の入居戸数⑤ | H17: 空き戸数 ⑥＝①-③
C18: =D7 -> 7 | D18: =F7 -> 2 | E18: =D9 -> 6 | F18: =F9 -> 5 | G18: =H9 -> 3 | H18: =C18-E18 -> 1 | J18: =IF(D18<=(G18+H18),"可","不可") -> 可
C20: ●年度実績
C21: 認定住宅入居戸数（累計） | F21: うち住宅確保要配慮者の入居戸数（累計） | H21: うち要援助者の 入居戸数（累計）
C22: ='1-1.入居状況等の記録'!G21 -> 8 | F22: ='1-1.入居状況等の記録'!G22 -> 7 | H22: ='1-1.入居状況等の記録'!I21 -> 5
F24: 低額所得者 | G24: 被災者 | H24: 高齢者 | I24: 障害者 | J24: 子育て | K24: その他 要配慮者
C25: 住宅確保要配慮者の入居戸数 （累計）の属性別内訳 | F25: ='1-1.入居状況等の記録'!Y21 -> 1 | G25: ='1-1.入居状況等の記録'!Z21 -> 0 | H25: ='1-1.入居状況等の記録'!AA21 -> 5 | I25: ='1-1.入居状況等の記録'!AB21 -> 2 | J25: ='1-1.入居状況等の記録'!AC21 -> 0 | K25: ='1-1.入居状況等の記録'!AD21 -> 0
C26: うち要援助者の入居戸数（累計）の 属性別内訳 | F26: ='1-1.入居状況等の記録'!Y22 -> 1 | G26: ='1-1.入居状況等の記録'!Z22 -> 0 | H26: ='1-1.入居状況等の記録'!AA22 -> 4 | I26: ='1-1.入居状況等の記録'!AB22 -> 1 | J26: ='1-1.入居状況等の記録'!AC22 -> 0 | K26: ='1-1.入居状況等の記録'!AD22 -> 0

Sheet 2-1.居住安定援助の記録⇒

Sheet 101○○
B1: 2-1.居住安定援助の記録(個票)
B2: ■入居者情報 | K2: ※要援助者以外(詳細な件数集計はしない)も個票は共通
B3: 住戸番号・氏名 | C3: 101 | D3: ○○ | E3: 要援助者 | F3: =VLOOKUP($C$3&$D$3,'1-1.入居状況等の記録'!$A$5:$AE$20,9,FALSE) -> ○ | I3: ｻﾎﾟｰﾄ内容 | J3: 安否確認 | K3: =VLOOKUP($C$3&$D$3,'1-1.入居状況等の記録'!$A$5:$AE$20,22,FALSE) -> 機器 | L3: 見守り | M3: =VLOOKUP($C$3&$D$3,'1-1.入居状況等の記録'!$A$5:$AE$20,23,FALSE) -> 訪問 | N3: 月1回 | O3: つなぎ | P3: =VLOOKUP($C$3&$D$3,'1-1.入居状況等の記録'!$A$5:$AE$20,15,FALSE) -> ○ | Q3: その他 | R3: =IF(VLOOKUP($C$3&$D$3,'1-1.入居状況等の記録'!$A$5:$AE$20,16,FALSE)=0,"",(VLOOKUP($C$3&$D$3,'1-1.入居状況等の記録'!$A$5:$AE$20,16,FALSE))) -> 通院付添
E4: 緑字：入力 | G4: 青字 | H4: ：自動表示
B5: 年月日 | C5: 安否確認(異常検知の対応記録) | I5: 見守り (実施した日に○) | J5: 福祉サービスへのつなぎ | P5: その他の 居住 サポート | Q5: 対応内容等の記録 | T5: 対応者
C6: 異常検知 | D6: 異常検知後 | J6: 自治体 | L6: 自治体の相談機関 | N6: 民間事業者等
D7: 入居者異常なし | E7: 入居者異常あり | J7: つなぎ先 | K7: ○：新規 ●：継続 | L7: つなぎ先 | M7: ○：新規 ●：継続 | N7: つなぎ先 | O7: ○：新規 ●：継続
F8: うち死亡 | G8: 対応あり | H8: 対応なし
B9: 45932 | C9: ○ | D9: ○ | Q9: 訪問の際、介護サービスの相談あり。地域包括支援センターに連絡 | T9: △△
B10: 45935 | I10: ○ | L10: 地域包括 | M10: ○ | Q10: 訪問の際、地域包括支援センターにつなぎ、介護保険外サービスについて相談 | T10: △△
B11: 45966 | I11: ○ | Q11: 訪問の際、宅配弁当の利用を確認。心身・生活状況に変化なし | T11: △△
B12: 45967 | P12: ○ | Q12: ○○内科への通院付添 | T12: △△
B13: 45996 | C13: ○ | E13: ○ | G13: ○ | Q13: 19時異常検知。20時駆け付け、室内で倒れていたため、救急搬送し、一命をとりとめる。しばらく入院。 | T13: ××
B14: 46028 | I14: ○ | Q14: 退院後の自宅生活が困難なため、有料老人ホームへの転居が決定。月末退居となる。 | T14: △△
B15: 46037 | N15: ○×センター | O15: ○ | Q15: 家財処分の事業者を紹介 | T15: △△
B16: 46053 | P16: ○ | Q16: 有料老人ホーム○○へ転居(引越支援) | T16: △△
B22: 合計 | C22: =COUNTIF(C9:C21,"○") -> 2 | D22: =COUNTIF(D9:D21,"○") -> 1 | E22: =COUNTIF(E9:E21,"○") -> 1 | F22: =COUNTIF(F9:F21,"○") -> 0 | G22: =COUNTIF(G9:G21,"○") -> 1 | H22: =COUNTIF(H9:H21,"○") -> 0 | I22: =COUNTIF(I9:I21,"○") -> 3 | K22: =COUNTIF(K9:K21,"○") -> 0 | M22: =COUNTIF(M9:M21,"○") -> 1 | O22: =COUNTIF(O9:O21,"○") -> 1
C23: ↑異常検知回数 | K23: ↑新規連絡先につないだ場合は○、継続は●とし、 ○をカウント

Sheet 101□□
B1: 2-1.居住安定援助の記録(個票)
B2: ■入居者情報 | K2: ※要援助者以外(詳細な件数集計はしない)も個票は共通
B3: 住戸番号・氏名 | C3: 101 | D3: □□ | E3: 要援助者 | F3: =VLOOKUP($C$3&$D$3,'1-1.入居状況等の記録'!$A$5:$AE$20,9,FALSE) -> - | I3: ｻﾎﾟｰﾄ内容 | J3: 安否確認 | K3: =VLOOKUP($C$3&$D$3,'1-1.入居状況等の記録'!$A$5:$AE$20,22,FALSE) -> 機器 | L3: 見守り | M3: =VLOOKUP($C$3&$D$3,'1-1.入居状況等の記録'!$A$5:$AE$20,23,FALSE) -> 訪問 | N3: 月1回 | O3: つなぎ | P3: =VLOOKUP($C$3&$D$3,'1-1.入居状況等の記録'!$A$5:$AE$20,15,FALSE) -> - | Q3: その他 | R3: =IF(VLOOKUP($C$3&$D$3,'1-1.入居状況等の記録'!$A$5:$AE$20,16,FALSE)=0,"",(VLOOKUP($C$3&$D$3,'1-1.入居状況等の記録'!$A$5:$AE$20,16,FALSE))) -> なし
E4: 緑字：入力 | G4: 青字 | H4: ：自動表示
B5: 年月日 | C5: 安否確認(異常検知の対応記録) | I5: 見守り (実施した日に○) | J5: 福祉サービスへのつなぎ | P5: その他の 居住 サポート | Q5: 対応内容等の記録 | T5: 対応者
C6: 異常検知 | D6: 異常検知後 | J6: 自治体 | L6: 自治体の相談機関 | N6: 民間事業者等
D7: 入居者異常なし | E7: 入居者異常あり | J7: つなぎ先 | K7: ○：新規 ●：継続 | L7: つなぎ先 | M7: ○：新規 ●：継続 | N7: つなぎ先 | O7: ○：新規 ●：継続
F8: うち死亡 | G8: 対応あり | H8: 対応なし
B9: 46067 | C9: ○ | D9: ○ | Q9: 14時異常検知。電話で本人と連絡がつき、外出中であることを確認 | T9: △△
B10: 46073 | I10: ○ | Q10: 心身・生活状況に変化なし | T10: △△
B11: 46101 | I11: ○ | Q11: 心身・生活状況に変化なし | T11: △△
B22: 合計 | C22: =COUNTIF(C9:C21,"○") -> 1 | D22: =COUNTIF(D9:D21,"○") -> 1 | E22: =COUNTIF(E9:E21,"○") -> 0 | F22: =COUNTIF(F9:F21,"○") -> 0 | G22: =COUNTIF(G9:G21,"○") -> 0 | H22: =COUNTIF(H9:H21,"○") -> 0 | I22: =COUNTIF(I9:I21,"○") -> 2 | K22: =COUNTIF(K9:K21,"○") -> 0 | M22: =COUNTIF(M9:M21,"○") -> 0 | O22: =COUNTIF(O9:O21,"○") -> 0
C23: ↑異常検知回数 | K23: ↑新規連絡先につないだ場合は○、継続は●とし、 ○をカウント

Sheet 103△□○
B1: 2-1.居住安定援助の記録(個票)
B2: ■入居者情報 | K2: ※要援助者以外(詳細な件数集計はしない)も個票は共通
B3: 住戸番号・氏名 | C3: 103 | D3: △□○ | E3: 要援助者 | F3: =VLOOKUP($C$3&$D$3,'1-1.入居状況等の記録'!$A$5:$AE$20,9,FALSE) -> ○ | I3: ｻﾎﾟｰﾄ内容 | J3: 安否確認 | K3: =VLOOKUP($C$3&$D$3,'1-1.入居状況等の記録'!$A$5:$AE$20,22,FALSE) -> 機器 | L3: 見守り | M3: =VLOOKUP($C$3&$D$3,'1-1.入居状況等の記録'!$A$5:$AE$20,23,FALSE) -> 訪問 | N3: 月1回 | O3: つなぎ | P3: =VLOOKUP($C$3&$D$3,'1-1.入居状況等の記録'!$A$5:$AE$20,15,FALSE) -> ○ | Q3: その他 | R3: =IF(VLOOKUP($C$3&$D$3,'1-1.入居状況等の記録'!$A$5:$AE$20,16,FALSE)=0,"",(VLOOKUP($C$3&$D$3,'1-1.入居状況等の記録'!$A$5:$AE$20,16,FALSE))) -> 通院付添
E4: 緑字：入力 | G4: 青字 | H4: ：自動表示
B5: 年月日 | C5: 安否確認(異常検知の対応記録) | I5: 見守り (実施した日に○) | J5: 福祉サービスへのつなぎ | P5: その他の 居住 サポート | Q5: 対応内容等の記録 | T5: 対応者
C6: 異常検知 | D6: 異常検知後 | J6: 自治体 | L6: 自治体の相談機関 | N6: 民間事業者等
D7: 入居者異常なし | E7: 入居者異常あり | J7: つなぎ先 | K7: ○：新規 ●：継続 | L7: つなぎ先 | M7: ○：新規 ●：継続 | N7: つなぎ先 | O7: ○：新規 ●：継続
F8: うち死亡 | G8: 対応あり | H8: 対応なし
B9: 45950 | I9: ○ | L9: 地域包括支援センター | M9: ○ | Q9: 訪問の際、食事づくり負担の相談あり。地域包括支援センターに連絡し、翌日のアポ取得 | T9: △△
B10: 45981 | I10: ○ | Q10: 訪問の際、宅配弁当利用を開始したことを確認 | T10: △△
B11: 46011 | I11: ○ | L11: 地域包括支援センター | M11: ● | Q11: 訪問の際、宅配弁当をやめたいとの相談あり、地域包括支援センターに連絡 | T11: △△
B12: 46042 | I12: ○ | Q12: 訪問の際、子ども食堂の利用をはじめたことを確認
B13: 46052 | P13: ○ | Q13: ○○外科への通院付添 | T13: △△
B14: 46058 | C14: ○ | D14: ○ | Q14: 15時異常検知。電話で本人と連絡がつき、誤作動であることを確認 | T14: ××
B15: 46073 | I15: ○ | Q15: 心身・生活状況に変化なし | T15: △△
B16: 46101 | I16: ○ | Q16: 心身・生活状況に変化なし | T16: △△
B22: 合計 | C22: =COUNTIF(C9:C21,"○") -> 1 | D22: =COUNTIF(D9:D21,"○") -> 1 | E22: =COUNTIF(E9:E21,"○") -> 0 | F22: =COUNTIF(F9:F21,"○") -> 0 | G22: =COUNTIF(G9:G21,"○") -> 0 | H22: =COUNTIF(H9:H21,"○") -> 0 | I22: =COUNTIF(I9:I21,"○") -> 6 | K22: =COUNTIF(K9:K21,"○") -> 0 | M22: =COUNTIF(M9:M21,"○") -> 1 | O22: =COUNTIF(O9:O21,"○") -> 0
C23: ↑異常検知回数 | K23: ↑新規連絡先につないだ場合は○、継続は●とし、 ○をカウント

Sheet 104●◇
B1: 2-1.居住安定援助の記録(個票)
B2: ■入居者情報 | K2: ※要援助者以外(詳細な件数集計はしない)も個票は共通
B3: 住戸番号・氏名 | C3: 104 | D3: ●◇ | E3: 要援助者 | F3: =VLOOKUP($C$3&$D$3,'1-1.入居状況等の記録'!$A$5:$AE$20,9,FALSE) -> ○ | I3: ｻﾎﾟｰﾄ内容 | J3: 安否確認 | K3: =VLOOKUP($C$3&$D$3,'1-1.入居状況等の記録'!$A$5:$AE$20,22,FALSE) -> 電話 | L3: 見守り | M3: =VLOOKUP($C$3&$D$3,'1-1.入居状況等の記録'!$A$5:$AE$20,23,FALSE) -> 訪問 | N3: 月1回 | O3: つなぎ | P3: =VLOOKUP($C$3&$D$3,'1-1.入居状況等の記録'!$A$5:$AE$20,15,FALSE) -> ○ | Q3: その他 | R3: =IF(VLOOKUP($C$3&$D$3,'1-1.入居状況等の記録'!$A$5:$AE$20,16,FALSE)=0,"",(VLOOKUP($C$3&$D$3,'1-1.入居状況等の記録'!$A$5:$AE$20,16,FALSE))) -> なし
E4: 緑字：入力 | G4: 青字 | H4: ：自動表示
B5: 年月日 | C5: 安否確認(異常検知の対応記録) | I5: 見守り (実施した日に○) | J5: 福祉サービスへのつなぎ | P5: その他の 居住 サポート | Q5: 対応内容等の記録 | T5: 対応者
C6: 異常検知 | D6: 異常検知後 | J6: 自治体 | L6: 自治体の相談機関 | N6: 民間事業者等
D7: 入居者異常なし | E7: 入居者異常あり | J7: つなぎ先 | K7: ○：新規 ●：継続 | L7: つなぎ先 | M7: ○：新規 ●：継続 | N7: つなぎ先 | O7: ○：新規 ●：継続
F8: うち死亡 | G8: 対応あり | H8: 対応なし
B9: 45950 | I9: ○ | L9: 地域包括支援センター | M9: ○ | Q9: 訪問の際、介護サービスの相談あり。地域包括支援センターに連絡 | T9: △△
B10: 45981 | I10: ○ | N10: 高齢者住まい紹介センター | O10: ○ | Q10: 訪問の際、施設への転居を相談され、紹介センターにつなぐ | T10: △△
B11: 46011 | I11: ○ | N11: ○×センター | O11: ○ | Q11: 訪問の際、引越しの相談に対応。家財処分の事業者を紹介 | T11: △△
B12: 46042 | I12: ○ | Q12: 転居準備中 | T12: △△
B13: 46053 | P13: ○ | Q13: 有料老人ホーム○○へ転居(引越支援) | T13: △△
B22: 合計 | C22: =COUNTIF(C9:C21,"○") -> 0 | D22: =COUNTIF(D9:D21,"○") -> 0 | E22: =COUNTIF(E9:E21,"○") -> 0 | F22: =COUNTIF(F9:F21,"○") -> 0 | G22: =COUNTIF(G9:G21,"○") -> 0 | H22: =COUNTIF(H9:H21,"○") -> 0 | I22: =COUNTIF(I9:I21,"○") -> 4 | K22: =COUNTIF(K9:K21,"○") -> 0 | M22: =COUNTIF(M9:M21,"○") -> 1 | O22: =COUNTIF(O9:O21,"○") -> 2
C23: ↑異常検知回数 | K23: ↑新規連絡先につないだ場合は○、継続は●とし、 ○をカウント

Sheet 201◇○
B1: 2-1.居住安定援助の記録(個票)
B2: ■入居者情報 | K2: ※要援助者以外(詳細な件数集計はしない)も個票は共通
B3: 住戸番号・氏名 | C3: 201 | D3: ◇○ | E3: 要援助者 | F3: =VLOOKUP($C$3&$D$3,'1-1.入居状況等の記録'!$A$5:$AE$20,9,FALSE) -> - | I3: ｻﾎﾟｰﾄ内容 | J3: 安否確認 | K3: =VLOOKUP($C$3&$D$3,'1-1.入居状況等の記録'!$A$5:$AE$20,22,FALSE) -> - | L3: 見守り | M3: =VLOOKUP($C$3&$D$3,'1-1.入居状況等の記録'!$A$5:$AE$20,23,FALSE) -> 訪問 | N3: 月1回 | O3: つなぎ | P3: =VLOOKUP($C$3&$D$3,'1-1.入居状況等の記録'!$A$5:$AE$20,15,FALSE) -> - | Q3: その他 | R3: =IF(VLOOKUP($C$3&$D$3,'1-1.入居状況等の記録'!$A$5:$AE$20,16,FALSE)=0,"",(VLOOKUP($C$3&$D$3,'1-1.入居状況等の記録'!$A$5:$AE$20,16,FALSE))) -> 買い物支援
E4: 緑字：入力 | G4: 青字 | H4: ：自動表示
B5: 年月日 | C5: 安否確認(異常検知の対応記録) | I5: 見守り (実施した日に○) | J5: 福祉サービスへのつなぎ | P5: その他の 居住 サポート | Q5: 対応内容等の記録 | T5: 対応者
C6: 異常検知 | D6: 異常検知後 | J6: 自治体 | L6: 自治体の相談機関 | N6: 民間事業者等
D7: 入居者異常なし | E7: 入居者異常あり | J7: つなぎ先 | K7: ○：新規 ●：継続 | L7: つなぎ先 | M7: ○：新規 ●：継続 | N7: つなぎ先 | O7: ○：新規 ●：継続
F8: うち死亡 | G8: 対応あり | H8: 対応なし
B9: 46073 | I9: ○ | Q9: 心身・生活状況に変化なし | T9: △△
B10: 46082 | P10: ○ | Q10: 電話で依頼があり、ホームセンターへの買い物支援 | T10: △△
B11: 46101 | I11: ○ | Q11: 心身・生活状況に変化なし | T11: △△
B22: 合計 | C22: =COUNTIF(C9:C21,"○") -> 0 | D22: =COUNTIF(D9:D21,"○") -> 0 | E22: =COUNTIF(E9:E21,"○") -> 0 | F22: =COUNTIF(F9:F21,"○") -> 0 | G22: =COUNTIF(G9:G21,"○") -> 0 | H22: =COUNTIF(H9:H21,"○") -> 0 | I22: =COUNTIF(I9:I21,"○") -> 2 | K22: =COUNTIF(K9:K21,"○") -> 0 | M22: =COUNTIF(M9:M21,"○") -> 0 | O22: =COUNTIF(O9:O21,"○") -> 0
C23: ↑異常検知回数 | K23: ↑新規連絡先につないだ場合は○、継続は●とし、 ○をカウント

Sheet 202□◇
B1: 2-1.居住安定援助の記録(個票)
B2: ■入居者情報 | K2: ※要援助者以外(詳細な件数集計はしない)も個票は共通
B3: 住戸番号・氏名 | C3: 202 | D3: □◇ | E3: 要援助者 | F3: =VLOOKUP($C$3&$D$3,'1-1.入居状況等の記録'!$A$5:$AE$20,9,FALSE) -> - | I3: ｻﾎﾟｰﾄ内容 | J3: 安否確認 | K3: =VLOOKUP($C$3&$D$3,'1-1.入居状況等の記録'!$A$5:$AE$20,22,FALSE) -> - | L3: 見守り | M3: =VLOOKUP($C$3&$D$3,'1-1.入居状況等の記録'!$A$5:$AE$20,23,FALSE) -> - | N3: - | O3: つなぎ | P3: =VLOOKUP($C$3&$D$3,'1-1.入居状況等の記録'!$A$5:$AE$20,15,FALSE) -> - | Q3: その他 | R3: =IF(VLOOKUP($C$3&$D$3,'1-1.入居状況等の記録'!$A$5:$AE$20,16,FALSE)=0,"",(VLOOKUP($C$3&$D$3,'1-1.入居状況等の記録'!$A$5:$AE$20,16,FALSE))) -> なし
E4: 緑字：入力 | G4: 青字 | H4: ：自動表示
B5: 年月日 | C5: 安否確認(異常検知の対応記録) | I5: 見守り (実施した日に○) | J5: 福祉サービスへのつなぎ | P5: その他の 居住 サポート | Q5: 対応内容等の記録 | T5: 対応者
C6: 異常検知 | D6: 異常検知後 | J6: 自治体 | L6: 自治体の相談機関 | N6: 民間事業者等
D7: 入居者異常なし | E7: 入居者異常あり | J7: つなぎ先 | K7: ○：新規 ●：継続 | L7: つなぎ先 | M7: ○：新規 ●：継続 | N7: つなぎ先 | O7: ○：新規 ●：継続
F8: うち死亡 | G8: 対応あり | H8: 対応なし
B22: 合計 | C22: =COUNTIF(C9:C21,"○") -> 0 | D22: =COUNTIF(D9:D21,"○") -> 0 | E22: =COUNTIF(E9:E21,"○") -> 0 | F22: =COUNTIF(F9:F21,"○") -> 0 | G22: =COUNTIF(G9:G21,"○") -> 0 | H22: =COUNTIF(H9:H21,"○") -> 0 | I22: =COUNTIF(I9:I21,"○") -> 0 | K22: =COUNTIF(K9:K21,"○") -> 0 | M22: =COUNTIF(M9:M21,"○") -> 0 | O22: =COUNTIF(O9:O21,"○") -> 0
C23: ↑異常検知回数 | K23: ↑新規連絡先につないだ場合は○、継続は●とし、 ○をカウント

Sheet 203○△
B1: 2-1.居住安定援助の記録(個票)
B2: ■入居者情報 | K2: ※要援助者以外(詳細な件数集計はしない)も個票は共通
B3: 住戸番号・氏名 | C3: 203 | D3: ○△ | E3: 要援助者 | F3: =VLOOKUP($C$3&$D$3,'1-1.入居状況等の記録'!$A$5:$AE$20,9,FALSE) -> ○ | I3: ｻﾎﾟｰﾄ内容 | J3: 安否確認 | K3: =VLOOKUP($C$3&$D$3,'1-1.入居状況等の記録'!$A$5:$AE$20,22,FALSE) -> 機器 | L3: 見守り | M3: =VLOOKUP($C$3&$D$3,'1-1.入居状況等の記録'!$A$5:$AE$20,23,FALSE) -> 訪問 | N3: 月1回 | O3: つなぎ | P3: =VLOOKUP($C$3&$D$3,'1-1.入居状況等の記録'!$A$5:$AE$20,15,FALSE) -> ○ | Q3: その他 | R3: =IF(VLOOKUP($C$3&$D$3,'1-1.入居状況等の記録'!$A$5:$AE$20,16,FALSE)=0,"",(VLOOKUP($C$3&$D$3,'1-1.入居状況等の記録'!$A$5:$AE$20,16,FALSE))) -> なし
E4: 緑字：入力 | G4: 青字 | H4: ：自動表示
B5: 年月日 | C5: 安否確認(異常検知の対応記録) | I5: 見守り (実施した日に○) | J5: 福祉サービスへのつなぎ | P5: その他の 居住 サポート | Q5: 対応内容等の記録 | T5: 対応者
C6: 異常検知 | D6: 異常検知後 | J6: 自治体 | L6: 自治体の相談機関 | N6: 民間事業者等
D7: 入居者異常なし | E7: 入居者異常あり | J7: つなぎ先 | K7: ○：新規 ●：継続 | L7: つなぎ先 | M7: ○：新規 ●：継続 | N7: つなぎ先 | O7: ○：新規 ●：継続
F8: うち死亡 | G8: 対応あり | H8: 対応なし
B9: 46042 | I9: ○ | Q9: 心身・生活状況に変化なし | T9: △△
B10: 46073 | I10: ○ | Q10: 心身・生活状況に変化なし | T10: △△
B11: 46101 | I11: ○ | Q11: 心身・生活状況に変化なし | T11: △△
B22: 合計 | C22: =COUNTIF(C9:C21,"○") -> 0 | D22: =COUNTIF(D9:D21,"○") -> 0 | E22: =COUNTIF(E9:E21,"○") -> 0 | F22: =COUNTIF(F9:F21,"○") -> 0 | G22: =COUNTIF(G9:G21,"○") -> 0 | H22: =COUNTIF(H9:H21,"○") -> 0 | I22: =COUNTIF(I9:I21,"○") -> 3 | K22: =COUNTIF(K9:K21,"○") -> 0 | M22: =COUNTIF(M9:M21,"○") -> 0 | O22: =COUNTIF(O9:O21,"○") -> 0
C23: ↑異常検知回数 | K23: ↑新規連絡先につないだ場合は○、継続は●とし、 ○をカウント

Sheet 204□○
B1: 2-1.居住安定援助の記録(個票)
B2: ■入居者情報 | K2: ※要援助者以外(詳細な件数集計はしない)も個票は共通
B3: 住戸番号・氏名 | C3: 204 | D3: □○ | E3: 要援助者 | F3: =VLOOKUP($C$3&$D$3,'1-1.入居状況等の記録'!$A$5:$AE$20,9,FALSE) -> ○ | I3: ｻﾎﾟｰﾄ内容 | J3: 安否確認 | K3: =VLOOKUP($C$3&$D$3,'1-1.入居状況等の記録'!$A$5:$AE$20,22,FALSE) -> 電話 | L3: 見守り | M3: =VLOOKUP($C$3&$D$3,'1-1.入居状況等の記録'!$A$5:$AE$20,23,FALSE) -> 訪問 | N3: 月1回 | O3: つなぎ | P3: =VLOOKUP($C$3&$D$3,'1-1.入居状況等の記録'!$A$5:$AE$20,15,FALSE) -> ○ | Q3: その他 | R3: =IF(VLOOKUP($C$3&$D$3,'1-1.入居状況等の記録'!$A$5:$AE$20,16,FALSE)=0,"",(VLOOKUP($C$3&$D$3,'1-1.入居状況等の記録'!$A$5:$AE$20,16,FALSE))) -> なし
E4: 緑字：入力 | G4: 青字 | H4: ：自動表示
B5: 年月日 | C5: 安否確認(異常検知の対応記録) | I5: 見守り (実施した日に○) | J5: 福祉サービスへのつなぎ | P5: その他の 居住 サポート | Q5: 対応内容等の記録 | T5: 対応者
C6: 異常検知 | D6: 異常検知後 | J6: 自治体 | L6: 自治体の相談機関 | N6: 民間事業者等
D7: 入居者異常なし | E7: 入居者異常あり | J7: つなぎ先 | K7: ○：新規 ●：継続 | L7: つなぎ先 | M7: ○：新規 ●：継続 | N7: つなぎ先 | O7: ○：新規 ●：継続
F8: うち死亡 | G8: 対応あり | H8: 対応なし
B9: 46037 | I9: ○ | L9: 基幹相談支援センター | M9: ○ | Q9: 家賃の支払い方法や生活資金についての相談があったため、基幹相談支援センターに連絡⇒相談後、代理納付の手続きをすることになった | T9: △△
B10: 46068 | I10: ○ | Q10: 心身・生活状況に変化なし | T10: △△
B11: 46096 | I11: ○ | Q11: 心身・生活状況に変化なし | T11: △△
B22: 合計 | C22: =COUNTIF(C9:C21,"○") -> 0 | D22: =COUNTIF(D9:D21,"○") -> 0 | E22: =COUNTIF(E9:E21,"○") -> 0 | F22: =COUNTIF(F9:F21,"○") -> 0 | G22: =COUNTIF(G9:G21,"○") -> 0 | H22: =COUNTIF(H9:H21,"○") -> 0 | I22: =COUNTIF(I9:I21,"○") -> 3 | K22: =COUNTIF(K9:K21,"○") -> 0 | M22: =COUNTIF(M9:M21,"○") -> 1 | O22: =COUNTIF(O9:O21,"○") -> 0
C23: ↑異常検知回数 | K23: ↑新規連絡先につないだ場合は○、継続は●とし、 ○をカウント

Sheet 2-2.要援助者に対する居住安定援助の提供状況（集計表）
B1: 参照用(削除不可)⇒ | E1: C22 | F1: D22 | G1: E22 | H1: F22 | I1: G22 | J1: H22 | L1: I22 | N1: K22 | P1: M22 | R1: O22
B2: 2-2.要援助者に対する居住安定援助の提供状況（集計表） | L2: ※空きは#REF!と表示されますが、合計欄には影響しません。合計欄は要援助者の行を合計しています。
B3: ■居住サポート件数等集計表(要援助者のみ) | L3: 緑字：入力 | N3: 青字：自動表示 | R3: ：個票から自動入力 | V3: ：定期報告に使用(年度計)
B4: 住戸番号＋氏名 | C4: 要援助者 | D4: 安否確認 | K4: 見守り | M4: 福祉サービスへのつなぎ | S4: その他の居住 サポート | T4: 属性
D5: 提供 方法 | E5: 異常検知 件数 | F5: 異常検知後 | K5: 提供方法 | L5: 延べ回数 | M5: 自治体 | O5: 自治体の相談機関 | Q5: 民間事業者等 | T5: (新規つなぎ回数 属性別カウント用)
F6: 入居者 異常なし | G6: 入居者 異常あり | M6: つなぎ先 | N6: 新規回数 | O6: つなぎ先 | P6: 新規回数 | Q6: つなぎ先 | R6: 新規回数 | T6: 低額所得者 | U6: 被災者 | V6: 高齢者 | W6: 障害者 | X6: 子育て | Y6: その他 要配慮者
H7: うち死亡 | I7: 対応あり | J7: 対応なし
B9: ='1-1.入居状況等の記録'!A5 -> 101○○ | C9: =VLOOKUP($B9,'1-1.入居状況等の記録'!$A$5:$AE$20,9,FALSE) -> ○ | D9: =IF(VLOOKUP($B9,'1-1.入居状況等の記録'!$A$5:$AE$20,22,FALSE)=0,"",(VLOOKUP($B9,'1-1.入居状況等の記録'!$A$5:$AE$20,22,FALSE))) -> 機器 | E9: {=INDIRECT($B9&"!"&E$1)} -> 2 | F9: {=INDIRECT($B9&"!"&F$1)} -> 1 | G9: {=INDIRECT($B9&"!"&G$1)} -> 1 | H9: {=INDIRECT($B9&"!"&H$1)} -> 0 | I9: {=INDIRECT($B9&"!"&I$1)} -> 1 | J9: {=INDIRECT($B9&"!"&J$1)} -> 0 | K9: =IF(VLOOKUP($B9,'1-1.入居状況等の記録'!$A$5:$AE$20,23,FALSE)=0,"",(VLOOKUP($B9,'1-1.入居状況等の記録'!$A$5:$AE$20,23,FALSE))) -> 訪問 | L9: {=INDIRECT($B9&"!"&L$1)} -> 3 | N9: {=INDIRECT($B9&"!"&N$1)} -> 0 | O9: 地域包括支援センター | P9: {=INDIRECT($B9&"!"&P$1)} -> 1 | Q9: ○×センター | R9: {=INDIRECT($B9&"!"&R$1)} -> 1 | S9: =IF(VLOOKUP($B9,'1-1.入居状況等の記録'!$A$5:$AE$20,'1-1.入居状況等の記録'!P$1,FALSE)="","",VLOOKUP($B9,'1-1.入居状況等の記録'!$A$5:$AE$20,'1-1.入居状況等の記録'!P$1,FALSE)) -> 通院付添 | T9: =IF(VLOOKUP($B9,'1-1.入居状況等の記録'!$A$5:$AE$20,'1-1.入居状況等の記録'!Y$1,FALSE)="","",VLOOKUP($B9,'1-1.入居状況等の記録'!$A$5:$AE$20,'1-1.入居状況等の記録'!Y$1,FALSE)) | U9: =IF(VLOOKUP($B9,'1-1.入居状況等の記録'!$A$5:$AE$20,'1-1.入居状況等の記録'!Z$1,FALSE)="","",VLOOKUP($B9,'1-1.入居状況等の記録'!$A$5:$AE$20,'1-1.入居状況等の記録'!Z$1,FALSE)) | V9: =IF(VLOOKUP($B9,'1-1.入居状況等の記録'!$A$5:$AE$20,'1-1.入居状況等の記録'!AA$1,FALSE)="","",VLOOKUP($B9,'1-1.入居状況等の記録'!$A$5:$AE$20,'1-1.入居状況等の記録'!AA$1,FALSE)) -> ○ | W9: =IF(VLOOKUP($B9,'1-1.入居状況等の記録'!$A$5:$AE$20,'1-1.入居状況等の記録'!AB$1,FALSE)="","",VLOOKUP($B9,'1-1.入居状況等の記録'!$A$5:$AE$20,'1-1.入居状況等の記録'!AB$1,FALSE)) | X9: =IF(VLOOKUP($B9,'1-1.入居状況等の記録'!$A$5:$AE$20,'1-1.入居状況等の記録'!AC$1,FALSE)="","",VLOOKUP($B9,'1-1.入居状況等の記録'!$A$5:$AE$20,'1-1.入居状況等の記録'!AC$1,FALSE)) | Y9: =IF(VLOOKUP($B9,'1-1.入居状況等の記録'!$A$5:$AE$20,'1-1.入居状況等の記録'!AD$1,FALSE)="","",VLOOKUP($B9,'1-1.入居状況等の記録'!$A$5:$AE$20,'1-1.入居状況等の記録'!AD$1,FALSE))
B10: ='1-1.入居状況等の記録'!A6 -> 101□□ | C10: =VLOOKUP($B10,'1-1.入居状況等の記録'!$A$5:$AE$20,9,FALSE) -> - | D10: =IF(VLOOKUP($B10,'1-1.入居状況等の記録'!$A$5:$AE$20,22,FALSE)=0,"",(VLOOKUP($B10,'1-1.入居状況等の記録'!$A$5:$AE$20,22,FALSE))) -> 機器 | E10: {=INDIRECT($B10&"!"&E$1)} -> 1 | F10: {=INDIRECT($B10&"!"&F$1)} -> 1 | G10: {=INDIRECT($B10&"!"&G$1)} -> 0 | H10: {=INDIRECT($B10&"!"&H$1)} -> 0 | I10: {=INDIRECT($B10&"!"&I$1)} -> 0 | J10: {=INDIRECT($B10&"!"&J$1)} -> 0 | K10: =IF(VLOOKUP($B10,'1-1.入居状況等の記録'!$A$5:$AE$20,23,FALSE)=0,"",(VLOOKUP($B10,'1-1.入居状況等の記録'!$A$5:$AE$20,23,FALSE))) -> 訪問 | L10: {=INDIRECT($B10&"!"&L$1)} -> 2 | N10: {=INDIRECT($B10&"!"&N$1)} -> 0 | P10: {=INDIRECT($B10&"!"&P$1)} -> 0 | R10: {=INDIRECT($B10&"!"&R$1)} -> 0 | S10: =IF(VLOOKUP($B10,'1-1.入居状況等の記録'!$A$5:$AE$20,'1-1.入居状況等の記録'!P$1,FALSE)="","",VLOOKUP($B10,'1-1.入居状況等の記録'!$A$5:$AE$20,'1-1.入居状況等の記録'!P$1,FALSE)) -> なし | T10: =IF(VLOOKUP($B10,'1-1.入居状況等の記録'!$A$5:$AE$20,'1-1.入居状況等の記録'!Y$1,FALSE)="","",VLOOKUP($B10,'1-1.入居状況等の記録'!$A$5:$AE$20,'1-1.入居状況等の記録'!Y$1,FALSE)) | U10: =IF(VLOOKUP($B10,'1-1.入居状況等の記録'!$A$5:$AE$20,'1-1.入居状況等の記録'!Z$1,FALSE)="","",VLOOKUP($B10,'1-1.入居状況等の記録'!$A$5:$AE$20,'1-1.入居状況等の記録'!Z$1,FALSE)) | V10: =IF(VLOOKUP($B10,'1-1.入居状況等の記録'!$A$5:$AE$20,'1-1.入居状況等の記録'!AA$1,FALSE)="","",VLOOKUP($B10,'1-1.入居状況等の記録'!$A$5:$AE$20,'1-1.入居状況等の記録'!AA$1,FALSE)) -> ○ | W10: =IF(VLOOKUP($B10,'1-1.入居状況等の記録'!$A$5:$AE$20,'1-1.入居状況等の記録'!AB$1,FALSE)="","",VLOOKUP($B10,'1-1.入居状況等の記録'!$A$5:$AE$20,'1-1.入居状況等の記録'!AB$1,FALSE)) | X10: =IF(VLOOKUP($B10,'1-1.入居状況等の記録'!$A$5:$AE$20,'1-1.入居状況等の記録'!AC$1,FALSE)="","",VLOOKUP($B10,'1-1.入居状況等の記録'!$A$5:$AE$20,'1-1.入居状況等の記録'!AC$1,FALSE)) | Y10: =IF(VLOOKUP($B10,'1-1.入居状況等の記録'!$A$5:$AE$20,'1-1.入居状況等の記録'!AD$1,FALSE)="","",VLOOKUP($B10,'1-1.入居状況等の記録'!$A$5:$AE$20,'1-1.入居状況等の記録'!AD$1,FALSE))
B11: ='1-1.入居状況等の記録'!A7 -> 103△□○ | C11: =VLOOKUP($B11,'1-1.入居状況等の記録'!$A$5:$AE$20,9,FALSE) -> ○ | D11: =IF(VLOOKUP($B11,'1-1.入居状況等の記録'!$A$5:$AE$20,22,FALSE)=0,"",(VLOOKUP($B11,'1-1.入居状況等の記録'!$A$5:$AE$20,22,FALSE))) -> 機器 | E11: {=INDIRECT($B11&"!"&E$1)} -> 1 | F11: {=INDIRECT($B11&"!"&F$1)} -> 1 | G11: {=INDIRECT($B11&"!"&G$1)} -> 0 | H11: {=INDIRECT($B11&"!"&H$1)} -> 0 | I11: {=INDIRECT($B11&"!"&I$1)} -> 0 | J11: {=INDIRECT($B11&"!"&J$1)} -> 0 | K11: =IF(VLOOKUP($B11,'1-1.入居状況等の記録'!$A$5:$AE$20,23,FALSE)=0,"",(VLOOKUP($B11,'1-1.入居状況等の記録'!$A$5:$AE$20,23,FALSE))) -> 訪問 | L11: {=INDIRECT($B11&"!"&L$1)} -> 6 | N11: {=INDIRECT($B11&"!"&N$1)} -> 0 | O11: 地域包括支援センター | P11: {=INDIRECT($B11&"!"&P$1)} -> 1 | R11: {=INDIRECT($B11&"!"&R$1)} -> 0 | S11: =IF(VLOOKUP($B11,'1-1.入居状況等の記録'!$A$5:$AE$20,'1-1.入居状況等の記録'!P$1,FALSE)="","",VLOOKUP($B11,'1-1.入居状況等の記録'!$A$5:$AE$20,'1-1.入居状況等の記録'!P$1,FALSE)) -> 通院付添 | T11: =IF(VLOOKUP($B11,'1-1.入居状況等の記録'!$A$5:$AE$20,'1-1.入居状況等の記録'!Y$1,FALSE)="","",VLOOKUP($B11,'1-1.入居状況等の記録'!$A$5:$AE$20,'1-1.入居状況等の記録'!Y$1,FALSE)) | U11: =IF(VLOOKUP($B11,'1-1.入居状況等の記録'!$A$5:$AE$20,'1-1.入居状況等の記録'!Z$1,FALSE)="","",VLOOKUP($B11,'1-1.入居状況等の記録'!$A$5:$AE$20,'1-1.入居状況等の記録'!Z$1,FALSE)) | V11: =IF(VLOOKUP($B11,'1-1.入居状況等の記録'!$A$5:$AE$20,'1-1.入居状況等の記録'!AA$1,FALSE)="","",VLOOKUP($B11,'1-1.入居状況等の記録'!$A$5:$AE$20,'1-1.入居状況等の記録'!AA$1,FALSE)) -> ○ | W11: =IF(VLOOKUP($B11,'1-1.入居状況等の記録'!$A$5:$AE$20,'1-1.入居状況等の記録'!AB$1,FALSE)="","",VLOOKUP($B11,'1-1.入居状況等の記録'!$A$5:$AE$20,'1-1.入居状況等の記録'!AB$1,FALSE)) | X11: =IF(VLOOKUP($B11,'1-1.入居状況等の記録'!$A$5:$AE$20,'1-1.入居状況等の記録'!AC$1,FALSE)="","",VLOOKUP($B11,'1-1.入居状況等の記録'!$A$5:$AE$20,'1-1.入居状況等の記録'!AC$1,FALSE)) | Y11: =IF(VLOOKUP($B11,'1-1.入居状況等の記録'!$A$5:$AE$20,'1-1.入居状況等の記録'!AD$1,FALSE)="","",VLOOKUP($B11,'1-1.入居状況等の記録'!$A$5:$AE$20,'1-1.入居状況等の記録'!AD$1,FALSE))
B12: ='1-1.入居状況等の記録'!A8 -> 104●◇ | C12: =VLOOKUP($B12,'1-1.入居状況等の記録'!$A$5:$AE$20,9,FALSE) -> ○ | D12: =IF(VLOOKUP($B12,'1-1.入居状況等の記録'!$A$5:$AE$20,22,FALSE)=0,"",(VLOOKUP($B12,'1-1.入居状況等の記録'!$A$5:$AE$20,22,FALSE))) -> 電話 | E12: {=INDIRECT($B12&"!"&E$1)} -> 0 | F12: {=INDIRECT($B12&"!"&F$1)} -> 0 | G12: {=INDIRECT($B12&"!"&G$1)} -> 0 | H12: {=INDIRECT($B12&"!"&H$1)} -> 0 | I12: {=INDIRECT($B12&"!"&I$1)} -> 0 | J12: {=INDIRECT($B12&"!"&J$1)} -> 0 | K12: =IF(VLOOKUP($B12,'1-1.入居状況等の記録'!$A$5:$AE$20,23,FALSE)=0,"",(VLOOKUP($B12,'1-1.入居状況等の記録'!$A$5:$AE$20,23,FALSE))) -> 訪問 | L12: {=INDIRECT($B12&"!"&L$1)} -> 4 | N12: {=INDIRECT($B12&"!"&N$1)} -> 0 | O12: 地域包括支援センター | P12: {=INDIRECT($B12&"!"&P$1)} -> 1 | Q12: 高齢者住まい紹介センター/ ○×センター | R12: {=INDIRECT($B12&"!"&R$1)} -> 2 | S12: =IF(VLOOKUP($B12,'1-1.入居状況等の記録'!$A$5:$AE$20,'1-1.入居状況等の記録'!P$1,FALSE)="","",VLOOKUP($B12,'1-1.入居状況等の記録'!$A$5:$AE$20,'1-1.入居状況等の記録'!P$1,FALSE)) -> なし | T12: =IF(VLOOKUP($B12,'1-1.入居状況等の記録'!$A$5:$AE$20,'1-1.入居状況等の記録'!Y$1,FALSE)="","",VLOOKUP($B12,'1-1.入居状況等の記録'!$A$5:$AE$20,'1-1.入居状況等の記録'!Y$1,FALSE)) | U12: =IF(VLOOKUP($B12,'1-1.入居状況等の記録'!$A$5:$AE$20,'1-1.入居状況等の記録'!Z$1,FALSE)="","",VLOOKUP($B12,'1-1.入居状況等の記録'!$A$5:$AE$20,'1-1.入居状況等の記録'!Z$1,FALSE)) | V12: =IF(VLOOKUP($B12,'1-1.入居状況等の記録'!$A$5:$AE$20,'1-1.入居状況等の記録'!AA$1,FALSE)="","",VLOOKUP($B12,'1-1.入居状況等の記録'!$A$5:$AE$20,'1-1.入居状況等の記録'!AA$1,FALSE)) -> ○ | W12: =IF(VLOOKUP($B12,'1-1.入居状況等の記録'!$A$5:$AE$20,'1-1.入居状況等の記録'!AB$1,FALSE)="","",VLOOKUP($B12,'1-1.入居状況等の記録'!$A$5:$AE$20,'1-1.入居状況等の記録'!AB$1,FALSE)) | X12: =IF(VLOOKUP($B12,'1-1.入居状況等の記録'!$A$5:$AE$20,'1-1.入居状況等の記録'!AC$1,FALSE)="","",VLOOKUP($B12,'1-1.入居状況等の記録'!$A$5:$AE$20,'1-1.入居状況等の記録'!AC$1,FALSE)) | Y12: =IF(VLOOKUP($B12,'1-1.入居状況等の記録'!$A$5:$AE$20,'1-1.入居状況等の記録'!AD$1,FALSE)="","",VLOOKUP($B12,'1-1.入居状況等の記録'!$A$5:$AE$20,'1-1.入居状況等の記録'!AD$1,FALSE))
B13: ='1-1.入居状況等の記録'!A9 -> 104空き | C13: =VLOOKUP($B13,'1-1.入居状況等の記録'!$A$5:$AE$20,9,FALSE) -> - | D13: =IF(VLOOKUP($B13,'1-1.入居状況等の記録'!$A$5:$AE$20,22,FALSE)=0,"",(VLOOKUP($B13,'1-1.入居状況等の記録'!$A$5:$AE$20,22,FALSE))) | E13: {=INDIRECT($B13&"!"&E$1)} -> #REF! | F13: {=INDIRECT($B13&"!"&F$1)} -> #REF! | G13: {=INDIRECT($B13&"!"&G$1)} -> #REF! | H13: {=INDIRECT($B13&"!"&H$1)} -> #REF! | I13: {=INDIRECT($B13&"!"&I$1)} -> #REF! | J13: {=INDIRECT($B13&"!"&J$1)} -> #REF! | K13: =IF(VLOOKUP($B13,'1-1.入居状況等の記録'!$A$5:$AE$20,23,FALSE)=0,"",(VLOOKUP($B13,'1-1.入居状況等の記録'!$A$5:$AE$20,23,FALSE))) | L13: {=INDIRECT($B13&"!"&L$1)} -> #REF! | N13: {=INDIRECT($B13&"!"&N$1)} -> #REF! | P13: {=INDIRECT($B13&"!"&P$1)} -> #REF! | R13: {=INDIRECT($B13&"!"&R$1)} -> #REF! | S13: =IF(VLOOKUP($B13,'1-1.入居状況等の記録'!$A$5:$AE$20,'1-1.入居状況等の記録'!P$1,FALSE)="","",VLOOKUP($B13,'1-1.入居状況等の記録'!$A$5:$AE$20,'1-1.入居状況等の記録'!P$1,FALSE)) -> なし | T13: =IF(VLOOKUP($B13,'1-1.入居状況等の記録'!$A$5:$AE$20,'1-1.入居状況等の記録'!Y$1,FALSE)="","",VLOOKUP($B13,'1-1.入居状況等の記録'!$A$5:$AE$20,'1-1.入居状況等の記録'!Y$1,FALSE)) | U13: =IF(VLOOKUP($B13,'1-1.入居状況等の記録'!$A$5:$AE$20,'1-1.入居状況等の記録'!Z$1,FALSE)="","",VLOOKUP($B13,'1-1.入居状況等の記録'!$A$5:$AE$20,'1-1.入居状況等の記録'!Z$1,FALSE)) | V13: =IF(VLOOKUP($B13,'1-1.入居状況等の記録'!$A$5:$AE$20,'1-1.入居状況等の記録'!AA$1,FALSE)="","",VLOOKUP($B13,'1-1.入居状況等の記録'!$A$5:$AE$20,'1-1.入居状況等の記録'!AA$1,FALSE)) | W13: =IF(VLOOKUP($B13,'1-1.入居状況等の記録'!$A$5:$AE$20,'1-1.入居状況等の記録'!AB$1,FALSE)="","",VLOOKUP($B13,'1-1.入居状況等の記録'!$A$5:$AE$20,'1-1.入居状況等の記録'!AB$1,FALSE)) | X13: =IF(VLOOKUP($B13,'1-1.入居状況等の記録'!$A$5:$AE$20,'1-1.入居状況等の記録'!AC$1,FALSE)="","",VLOOKUP($B13,'1-1.入居状況等の記録'!$A$5:$AE$20,'1-1.入居状況等の記録'!AC$1,FALSE)) | Y13: =IF(VLOOKUP($B13,'1-1.入居状況等の記録'!$A$5:$AE$20,'1-1.入居状況等の記録'!AD$1,FALSE)="","",VLOOKUP($B13,'1-1.入居状況等の記録'!$A$5:$AE$20,'1-1.入居状況等の記録'!AD$1,FALSE))
B14: ='1-1.入居状況等の記録'!A10 -> 201◇○ | C14: =VLOOKUP($B14,'1-1.入居状況等の記録'!$A$5:$AE$20,9,FALSE) -> - | D14: =IF(VLOOKUP($B14,'1-1.入居状況等の記録'!$A$5:$AE$20,22,FALSE)=0,"",(VLOOKUP($B14,'1-1.入居状況等の記録'!$A$5:$AE$20,22,FALSE))) -> - | E14: {=INDIRECT($B14&"!"&E$1)} -> 0 | F14: {=INDIRECT($B14&"!"&F$1)} -> 0 | G14: {=INDIRECT($B14&"!"&G$1)} -> 0 | H14: {=INDIRECT($B14&"!"&H$1)} -> 0 | I14: {=INDIRECT($B14&"!"&I$1)} -> 0 | J14: {=INDIRECT($B14&"!"&J$1)} -> 0 | K14: =IF(VLOOKUP($B14,'1-1.入居状況等の記録'!$A$5:$AE$20,23,FALSE)=0,"",(VLOOKUP($B14,'1-1.入居状況等の記録'!$A$5:$AE$20,23,FALSE))) -> 訪問 | L14: {=INDIRECT($B14&"!"&L$1)} -> 2 | N14: {=INDIRECT($B14&"!"&N$1)} -> 0 | P14: {=INDIRECT($B14&"!"&P$1)} -> 0 | R14: {=INDIRECT($B14&"!"&R$1)} -> 0 | S14: =IF(VLOOKUP($B14,'1-1.入居状況等の記録'!$A$5:$AE$20,'1-1.入居状況等の記録'!P$1,FALSE)="","",VLOOKUP($B14,'1-1.入居状況等の記録'!$A$5:$AE$20,'1-1.入居状況等の記録'!P$1,FALSE)) -> 買い物支援 | T14: =IF(VLOOKUP($B14,'1-1.入居状況等の記録'!$A$5:$AE$20,'1-1.入居状況等の記録'!Y$1,FALSE)="","",VLOOKUP($B14,'1-1.入居状況等の記録'!$A$5:$AE$20,'1-1.入居状況等の記録'!Y$1,FALSE)) | U14: =IF(VLOOKUP($B14,'1-1.入居状況等の記録'!$A$5:$AE$20,'1-1.入居状況等の記録'!Z$1,FALSE)="","",VLOOKUP($B14,'1-1.入居状況等の記録'!$A$5:$AE$20,'1-1.入居状況等の記録'!Z$1,FALSE)) | V14: =IF(VLOOKUP($B14,'1-1.入居状況等の記録'!$A$5:$AE$20,'1-1.入居状況等の記録'!AA$1,FALSE)="","",VLOOKUP($B14,'1-1.入居状況等の記録'!$A$5:$AE$20,'1-1.入居状況等の記録'!AA$1,FALSE)) | W14: =IF(VLOOKUP($B14,'1-1.入居状況等の記録'!$A$5:$AE$20,'1-1.入居状況等の記録'!AB$1,FALSE)="","",VLOOKUP($B14,'1-1.入居状況等の記録'!$A$5:$AE$20,'1-1.入居状況等の記録'!AB$1,FALSE)) -> ○ | X14: =IF(VLOOKUP($B14,'1-1.入居状況等の記録'!$A$5:$AE$20,'1-1.入居状況等の記録'!AC$1,FALSE)="","",VLOOKUP($B14,'1-1.入居状況等の記録'!$A$5:$AE$20,'1-1.入居状況等の記録'!AC$1,FALSE)) | Y14: =IF(VLOOKUP($B14,'1-1.入居状況等の記録'!$A$5:$AE$20,'1-1.入居状況等の記録'!AD$1,FALSE)="","",VLOOKUP($B14,'1-1.入居状況等の記録'!$A$5:$AE$20,'1-1.入居状況等の記録'!AD$1,FALSE))
B15: ='1-1.入居状況等の記録'!A11 -> 202□◇ | C15: =VLOOKUP($B15,'1-1.入居状況等の記録'!$A$5:$AE$20,9,FALSE) -> - | D15: =IF(VLOOKUP($B15,'1-1.入居状況等の記録'!$A$5:$AE$20,22,FALSE)=0,"",(VLOOKUP($B15,'1-1.入居状況等の記録'!$A$5:$AE$20,22,FALSE))) -> - | E15: {=INDIRECT($B15&"!"&E$1)} -> 0 | F15: {=INDIRECT($B15&"!"&F$1)} -> 0 | G15: {=INDIRECT($B15&"!"&G$1)} -> 0 | H15: {=INDIRECT($B15&"!"&H$1)} -> 0 | I15: {=INDIRECT($B15&"!"&I$1)} -> 0 | J15: {=INDIRECT($B15&"!"&J$1)} -> 0 | K15: =IF(VLOOKUP($B15,'1-1.入居状況等の記録'!$A$5:$AE$20,23,FALSE)=0,"",(VLOOKUP($B15,'1-1.入居状況等の記録'!$A$5:$AE$20,23,FALSE))) -> - | L15: {=INDIRECT($B15&"!"&L$1)} -> 0 | N15: {=INDIRECT($B15&"!"&N$1)} -> 0 | P15: {=INDIRECT($B15&"!"&P$1)} -> 0 | R15: {=INDIRECT($B15&"!"&R$1)} -> 0 | S15: =IF(VLOOKUP($B15,'1-1.入居状況等の記録'!$A$5:$AE$20,'1-1.入居状況等の記録'!P$1,FALSE)="","",VLOOKUP($B15,'1-1.入居状況等の記録'!$A$5:$AE$20,'1-1.入居状況等の記録'!P$1,FALSE)) -> なし | T15: =IF(VLOOKUP($B15,'1-1.入居状況等の記録'!$A$5:$AE$20,'1-1.入居状況等の記録'!Y$1,FALSE)="","",VLOOKUP($B15,'1-1.入居状況等の記録'!$A$5:$AE$20,'1-1.入居状況等の記録'!Y$1,FALSE)) | U15: =IF(VLOOKUP($B15,'1-1.入居状況等の記録'!$A$5:$AE$20,'1-1.入居状況等の記録'!Z$1,FALSE)="","",VLOOKUP($B15,'1-1.入居状況等の記録'!$A$5:$AE$20,'1-1.入居状況等の記録'!Z$1,FALSE)) | V15: =IF(VLOOKUP($B15,'1-1.入居状況等の記録'!$A$5:$AE$20,'1-1.入居状況等の記録'!AA$1,FALSE)="","",VLOOKUP($B15,'1-1.入居状況等の記録'!$A$5:$AE$20,'1-1.入居状況等の記録'!AA$1,FALSE)) | W15: =IF(VLOOKUP($B15,'1-1.入居状況等の記録'!$A$5:$AE$20,'1-1.入居状況等の記録'!AB$1,FALSE)="","",VLOOKUP($B15,'1-1.入居状況等の記録'!$A$5:$AE$20,'1-1.入居状況等の記録'!AB$1,FALSE)) | X15: =IF(VLOOKUP($B15,'1-1.入居状況等の記録'!$A$5:$AE$20,'1-1.入居状況等の記録'!AC$1,FALSE)="","",VLOOKUP($B15,'1-1.入居状況等の記録'!$A$5:$AE$20,'1-1.入居状況等の記録'!AC$1,FALSE)) | Y15: =IF(VLOOKUP($B15,'1-1.入居状況等の記録'!$A$5:$AE$20,'1-1.入居状況等の記録'!AD$1,FALSE)="","",VLOOKUP($B15,'1-1.入居状況等の記録'!$A$5:$AE$20,'1-1.入居状況等の記録'!AD$1,FALSE))
B16: ='1-1.入居状況等の記録'!A12 -> 203○△ | C16: =VLOOKUP($B16,'1-1.入居状況等の記録'!$A$5:$AE$20,9,FALSE) -> ○ | D16: =IF(VLOOKUP($B16,'1-1.入居状況等の記録'!$A$5:$AE$20,22,FALSE)=0,"",(VLOOKUP($B16,'1-1.入居状況等の記録'!$A$5:$AE$20,22,FALSE))) -> 機器 | E16: {=INDIRECT($B16&"!"&E$1)} -> 0 | F16: {=INDIRECT($B16&"!"&F$1)} -> 0 | G16: {=INDIRECT($B16&"!"&G$1)} -> 0 | H16: {=INDIRECT($B16&"!"&H$1)} -> 0 | I16: {=INDIRECT($B16&"!"&I$1)} -> 0 | J16: {=INDIRECT($B16&"!"&J$1)} -> 0 | K16: =IF(VLOOKUP($B16,'1-1.入居状況等の記録'!$A$5:$AE$20,23,FALSE)=0,"",(VLOOKUP($B16,'1-1.入居状況等の記録'!$A$5:$AE$20,23,FALSE))) -> 訪問 | L16: {=INDIRECT($B16&"!"&L$1)} -> 3 | N16: {=INDIRECT($B16&"!"&N$1)} -> 0 | P16: {=INDIRECT($B16&"!"&P$1)} -> 0 | R16: {=INDIRECT($B16&"!"&R$1)} -> 0 | S16: =IF(VLOOKUP($B16,'1-1.入居状況等の記録'!$A$5:$AE$20,'1-1.入居状況等の記録'!P$1,FALSE)="","",VLOOKUP($B16,'1-1.入居状況等の記録'!$A$5:$AE$20,'1-1.入居状況等の記録'!P$1,FALSE)) -> なし | T16: =IF(VLOOKUP($B16,'1-1.入居状況等の記録'!$A$5:$AE$20,'1-1.入居状況等の記録'!Y$1,FALSE)="","",VLOOKUP($B16,'1-1.入居状況等の記録'!$A$5:$AE$20,'1-1.入居状況等の記録'!Y$1,FALSE)) | U16: =IF(VLOOKUP($B16,'1-1.入居状況等の記録'!$A$5:$AE$20,'1-1.入居状況等の記録'!Z$1,FALSE)="","",VLOOKUP($B16,'1-1.入居状況等の記録'!$A$5:$AE$20,'1-1.入居状況等の記録'!Z$1,FALSE)) | V16: =IF(VLOOKUP($B16,'1-1.入居状況等の記録'!$A$5:$AE$20,'1-1.入居状況等の記録'!AA$1,FALSE)="","",VLOOKUP($B16,'1-1.入居状況等の記録'!$A$5:$AE$20,'1-1.入居状況等の記録'!AA$1,FALSE)) -> ○ | W16: =IF(VLOOKUP($B16,'1-1.入居状況等の記録'!$A$5:$AE$20,'1-1.入居状況等の記録'!AB$1,FALSE)="","",VLOOKUP($B16,'1-1.入居状況等の記録'!$A$5:$AE$20,'1-1.入居状況等の記録'!AB$1,FALSE)) | X16: =IF(VLOOKUP($B16,'1-1.入居状況等の記録'!$A$5:$AE$20,'1-1.入居状況等の記録'!AC$1,FALSE)="","",VLOOKUP($B16,'1-1.入居状況等の記録'!$A$5:$AE$20,'1-1.入居状況等の記録'!AC$1,FALSE)) | Y16: =IF(VLOOKUP($B16,'1-1.入居状況等の記録'!$A$5:$AE$20,'1-1.入居状況等の記録'!AD$1,FALSE)="","",VLOOKUP($B16,'1-1.入居状況等の記録'!$A$5:$AE$20,'1-1.入居状況等の記録'!AD$1,FALSE))
B17: ='1-1.入居状況等の記録'!A13 -> 204空き | C17: =VLOOKUP($B17,'1-1.入居状況等の記録'!$A$5:$AE$20,9,FALSE) -> - | D17: =IF(VLOOKUP($B17,'1-1.入居状況等の記録'!$A$5:$AE$20,22,FALSE)=0,"",(VLOOKUP($B17,'1-1.入居状況等の記録'!$A$5:$AE$20,22,FALSE))) | E17: {=INDIRECT($B17&"!"&E$1)} -> #REF! | F17: {=INDIRECT($B17&"!"&F$1)} -> #REF! | G17: {=INDIRECT($B17&"!"&G$1)} -> #REF! | H17: {=INDIRECT($B17&"!"&H$1)} -> #REF! | I17: {=INDIRECT($B17&"!"&I$1)} -> #REF! | J17: {=INDIRECT($B17&"!"&J$1)} -> #REF! | K17: =IF(VLOOKUP($B17,'1-1.入居状況等の記録'!$A$5:$AE$20,23,FALSE)=0,"",(VLOOKUP($B17,'1-1.入居状況等の記録'!$A$5:$AE$20,23,FALSE))) | L17: {=INDIRECT($B17&"!"&L$1)} -> #REF! | N17: {=INDIRECT($B17&"!"&N$1)} -> #REF! | P17: {=INDIRECT($B17&"!"&P$1)} -> #REF! | R17: {=INDIRECT($B17&"!"&R$1)} -> #REF! | S17: =IF(VLOOKUP($B17,'1-1.入居状況等の記録'!$A$5:$AE$20,'1-1.入居状況等の記録'!P$1,FALSE)="","",VLOOKUP($B17,'1-1.入居状況等の記録'!$A$5:$AE$20,'1-1.入居状況等の記録'!P$1,FALSE)) -> なし | T17: =IF(VLOOKUP($B17,'1-1.入居状況等の記録'!$A$5:$AE$20,'1-1.入居状況等の記録'!Y$1,FALSE)="","",VLOOKUP($B17,'1-1.入居状況等の記録'!$A$5:$AE$20,'1-1.入居状況等の記録'!Y$1,FALSE)) | U17: =IF(VLOOKUP($B17,'1-1.入居状況等の記録'!$A$5:$AE$20,'1-1.入居状況等の記録'!Z$1,FALSE)="","",VLOOKUP($B17,'1-1.入居状況等の記録'!$A$5:$AE$20,'1-1.入居状況等の記録'!Z$1,FALSE)) | V17: =IF(VLOOKUP($B17,'1-1.入居状況等の記録'!$A$5:$AE$20,'1-1.入居状況等の記録'!AA$1,FALSE)="","",VLOOKUP($B17,'1-1.入居状況等の記録'!$A$5:$AE$20,'1-1.入居状況等の記録'!AA$1,FALSE)) | W17: =IF(VLOOKUP($B17,'1-1.入居状況等の記録'!$A$5:$AE$20,'1-1.入居状況等の記録'!AB$1,FALSE)="","",VLOOKUP($B17,'1-1.入居状況等の記録'!$A$5:$AE$20,'1-1.入居状況等の記録'!AB$1,FALSE)) | X17: =IF(VLOOKUP($B17,'1-1.入居状況等の記録'!$A$5:$AE$20,'1-1.入居状況等の記録'!AC$1,FALSE)="","",VLOOKUP($B17,'1-1.入居状況等の記録'!$A$5:$AE$20,'1-1.入居状況等の記録'!AC$1,FALSE)) | Y17: =IF(VLOOKUP($B17,'1-1.入居状況等の記録'!$A$5:$AE$20,'1-1.入居状況等の記録'!AD$1,FALSE)="","",VLOOKUP($B17,'1-1.入居状況等の記録'!$A$5:$AE$20,'1-1.入居状況等の記録'!AD$1,FALSE))
B18: ='1-1.入居状況等の記録'!A14 -> 204□○ | C18: =VLOOKUP($B18,'1-1.入居状況等の記録'!$A$5:$AE$20,9,FALSE) -> ○ | D18: =IF(VLOOKUP($B18,'1-1.入居状況等の記録'!$A$5:$AE$20,22,FALSE)=0,"",(VLOOKUP($B18,'1-1.入居状況等の記録'!$A$5:$AE$20,22,FALSE))) -> 電話 | E18: {=INDIRECT($B18&"!"&E$1)} -> 0 | F18: {=INDIRECT($B18&"!"&F$1)} -> 0 | G18: {=INDIRECT($B18&"!"&G$1)} -> 0 | H18: {=INDIRECT($B18&"!"&H$1)} -> 0 | I18: {=INDIRECT($B18&"!"&I$1)} -> 0 | J18: {=INDIRECT($B18&"!"&J$1)} -> 0 | K18: =IF(VLOOKUP($B18,'1-1.入居状況等の記録'!$A$5:$AE$20,23,FALSE)=0,"",(VLOOKUP($B18,'1-1.入居状況等の記録'!$A$5:$AE$20,23,FALSE))) -> 訪問 | L18: {=INDIRECT($B18&"!"&L$1)} -> 3 | N18: {=INDIRECT($B18&"!"&N$1)} -> 0 | O18: 基幹相談支援センター | P18: {=INDIRECT($B18&"!"&P$1)} -> 1 | R18: {=INDIRECT($B18&"!"&R$1)} -> 0 | S18: =IF(VLOOKUP($B18,'1-1.入居状況等の記録'!$A$5:$AE$20,'1-1.入居状況等の記録'!P$1,FALSE)="","",VLOOKUP($B18,'1-1.入居状況等の記録'!$A$5:$AE$20,'1-1.入居状況等の記録'!P$1,FALSE)) -> なし | T18: =IF(VLOOKUP($B18,'1-1.入居状況等の記録'!$A$5:$AE$20,'1-1.入居状況等の記録'!Y$1,FALSE)="","",VLOOKUP($B18,'1-1.入居状況等の記録'!$A$5:$AE$20,'1-1.入居状況等の記録'!Y$1,FALSE)) -> ○ | U18: =IF(VLOOKUP($B18,'1-1.入居状況等の記録'!$A$5:$AE$20,'1-1.入居状況等の記録'!Z$1,FALSE)="","",VLOOKUP($B18,'1-1.入居状況等の記録'!$A$5:$AE$20,'1-1.入居状況等の記録'!Z$1,FALSE)) | V18: =IF(VLOOKUP($B18,'1-1.入居状況等の記録'!$A$5:$AE$20,'1-1.入居状況等の記録'!AA$1,FALSE)="","",VLOOKUP($B18,'1-1.入居状況等の記録'!$A$5:$AE$20,'1-1.入居状況等の記録'!AA$1,FALSE)) | W18: =IF(VLOOKUP($B18,'1-1.入居状況等の記録'!$A$5:$AE$20,'1-1.入居状況等の記録'!AB$1,FALSE)="","",VLOOKUP($B18,'1-1.入居状況等の記録'!$A$5:$AE$20,'1-1.入居状況等の記録'!AB$1,FALSE)) -> ○ | X18: =IF(VLOOKUP($B18,'1-1.入居状況等の記録'!$A$5:$AE$20,'1-1.入居状況等の記録'!AC$1,FALSE)="","",VLOOKUP($B18,'1-1.入居状況等の記録'!$A$5:$AE$20,'1-1.入居状況等の記録'!AC$1,FALSE)) | Y18: =IF(VLOOKUP($B18,'1-1.入居状況等の記録'!$A$5:$AE$20,'1-1.入居状況等の記録'!AD$1,FALSE)="","",VLOOKUP($B18,'1-1.入居状況等の記録'!$A$5:$AE$20,'1-1.入居状況等の記録'!AD$1,FALSE))
B22: 合計 | E22: =SUMIF($C9:$C21,"○",E9:E21) -> 3 | F22: =SUMIF($C9:$C21,"○",F9:F21) -> 2 | G22: =SUMIF($C9:$C21,"○",G9:G21) -> 1 | H22: =SUMIF($C9:$C21,"○",H9:H21) -> 0 | I22: =SUMIF($C9:$C21,"○",I9:I21) -> 1 | J22: =SUMIF($C9:$C21,"○",J9:J21) -> 0 | L22: =SUMIF($C9:$C21,"○",L9:L21) -> 19 | N22: =SUMIF($C9:$C21,"○",N9:N21) -> 0 | P22: =SUMIF($C9:$C21,"○",P9:P21) -> 4 | R22: =SUMIF($C9:$C21,"○",R9:R21) -> 3 | S22: ='1-1.入居状況等の記録'!P21 -> 3
